BEGIN:VCALENDAR
VERSION:2.0
PRODID:-//River Pointe Church - ECPv6.15.20//NONSGML v1.0//EN
CALSCALE:GREGORIAN
METHOD:PUBLISH
X-ORIGINAL-URL:https://www.rpc.me
X-WR-CALDESC:Events for River Pointe Church
REFRESH-INTERVAL;VALUE=DURATION:PT1H
X-Robots-Tag:noindex
X-PUBLISHED-TTL:PT1H
BEGIN:VTIMEZONE
TZID:America/Chicago
BEGIN:DAYLIGHT
TZOFFSETFROM:-0600
TZOFFSETTO:-0500
TZNAME:CDT
DTSTART:20250309T080000
END:DAYLIGHT
BEGIN:STANDARD
TZOFFSETFROM:-0500
TZOFFSETTO:-0600
TZNAME:CST
DTSTART:20251102T070000
END:STANDARD
BEGIN:DAYLIGHT
TZOFFSETFROM:-0600
TZOFFSETTO:-0500
TZNAME:CDT
DTSTART:20260308T080000
END:DAYLIGHT
BEGIN:STANDARD
TZOFFSETFROM:-0500
TZOFFSETTO:-0600
TZNAME:CST
DTSTART:20261101T070000
END:STANDARD
BEGIN:DAYLIGHT
TZOFFSETFROM:-0600
TZOFFSETTO:-0500
TZNAME:CDT
DTSTART:20270314T080000
END:DAYLIGHT
BEGIN:STANDARD
TZOFFSETFROM:-0500
TZOFFSETTO:-0600
TZNAME:CST
DTSTART:20271107T070000
END:STANDARD
END:VTIMEZONE
BEGIN:VTIMEZONE
TZID:UTC
BEGIN:STANDARD
TZOFFSETFROM:+0000
TZOFFSETTO:+0000
TZNAME:UTC
DTSTART:20220101T000000
END:STANDARD
END:VTIMEZONE
BEGIN:VEVENT
DTSTART;TZID=America/Chicago:20260128T183000
DTEND;TZID=America/Chicago:20260128T200000
DTSTAMP:20260423T214154
CREATED:20240816T161708Z
LAST-MODIFIED:20251222T235804Z
UID:10001645-1769625000-1769630400@www.rpc.me
SUMMARY:Men's Steaks & Stogies - Richmond
DESCRIPTION:Men\, you’re invited to a night made for connection\, conversation\, and community. Bring your own steak to throw on the grill\, enjoy a good cigar (if that’s your thing)\, and spend time with other men who want to grow stronger-in faith\, in purpose\, and in community.
URL:https://www.rpc.me/event/mens-steaks-stogies-richmond/
LOCATION:RPC Richmond Campus | Yard & Grill
CATEGORIES:Richmond
ORGANIZER;CN="Groups":MAILTO:groups@rpc.me
END:VEVENT
BEGIN:VEVENT
DTSTART;TZID=UTC:20251108T160000
DTEND;TZID=UTC:20251108T180000
DTSTAMP:20260423T214154
CREATED:20221010T181238Z
LAST-MODIFIED:20251003T161500Z
UID:10001288-1762617600-1762624800@www.rpc.me
SUMMARY:Veteran's Day Celebration
DESCRIPTION:Join your fellow Veterans and their families for a night of food\, camaraderie\, and raffles!\nMen and women from ALL branches of the military are welcome.\nNo childcare
URL:https://www.rpc.me/event/veterans-day-celebration/
LOCATION:RPC Richmond Campus | Yard & Grill
CATEGORIES:Missouri City,Richmond
ORGANIZER;CN="Groups":MAILTO:groups@rpc.me
END:VEVENT
BEGIN:VEVENT
DTSTART;TZID=UTC:20250816T061500
DTEND;TZID=UTC:20250816T061500
DTSTAMP:20260423T214154
CREATED:20240606T204803Z
LAST-MODIFIED:20250529T144054Z
UID:10001454-1755324900-1755324900@www.rpc.me
SUMMARY:Men's Fishing Charter
DESCRIPTION:A 4-hour private bay fishing charter leaving out of the port of Galveston.\nA time for fishing sharks\, sand trout\, catfish\, black drum\, and more!
URL:https://www.rpc.me/event/mens-fishing-charter-2/
LOCATION:RPC Richmond Campus | Yard & Grill
CATEGORIES:Missouri City,Richmond,West End Church
END:VEVENT
BEGIN:VEVENT
DTSTART;TZID=UTC:20241118T183000
DTEND;TZID=UTC:20241118T200000
DTSTAMP:20260423T214154
CREATED:20210913T194346Z
LAST-MODIFIED:20241022T171706Z
UID:10001221-1731954600-1731960000@www.rpc.me
SUMMARY:Men's Steaks & Stogies: Texans v Cowboys - Richmond
DESCRIPTION:It’s time to fire up the grill\, light up some cigars\, and kick back while we watch the Texans play the Cowboys. Join us for a night of good food\, great company\, and all-around good times. Bring a steak to throw on the grill and we’ll take care of everything else.
URL:https://www.rpc.me/event/mens-steak-and-stogies-night/
LOCATION:RPC Richmond Campus | Yard & Grill
CATEGORIES:Richmond
ORGANIZER;CN="Groups":MAILTO:groups@rpc.me
END:VEVENT
BEGIN:VEVENT
DTSTART;TZID=UTC:20230826T060000
DTEND;TZID=UTC:20230826T120000
DTSTAMP:20260423T214154
CREATED:20210730T200333Z
LAST-MODIFIED:20230510T212921Z
UID:10001212-1693029600-1693051200@www.rpc.me
SUMMARY:Men's Fishing Charter
DESCRIPTION:Join us for a 4-hour private bay fishing charter leaving out of the port of Galveston. A time for fishing sharks\, sand trout\, catfish\, black drum & more! \nYou will need the following:\n• Valid fishing license with a saltwater endorsement\n• Soft cooler with a packed lunch and snacks\n• Ice chest to bring home your catches of the day\n• $10 for parking if you do not carpool\n• Fish processing available on-site for $2-5/lb
URL:https://www.rpc.me/event/mens-fishing-charter/
LOCATION:RPC Richmond Campus | Yard & Grill
CATEGORIES:Missouri City,Richmond,West End Church
ORGANIZER;CN="Groups":MAILTO:groups@rpc.me
END:VEVENT
END:VCALENDAR