BEGIN:VCALENDAR
VERSION:2.0
PRODID:-//River Pointe Church - ECPv6.15.20//NONSGML v1.0//EN
CALSCALE:GREGORIAN
METHOD:PUBLISH
X-WR-CALNAME:River Pointe Church
X-ORIGINAL-URL:https://www.rpc.me
X-WR-CALDESC:Events for River Pointe Church
REFRESH-INTERVAL;VALUE=DURATION:PT1H
X-Robots-Tag:noindex
X-PUBLISHED-TTL:PT1H
BEGIN:VTIMEZONE
TZID:UTC
BEGIN:STANDARD
TZOFFSETFROM:+0000
TZOFFSETTO:+0000
TZNAME:UTC
DTSTART:20200101T000000
END:STANDARD
END:VTIMEZONE
BEGIN:VEVENT
DTSTART;TZID=UTC:20211208T190000
DTEND;TZID=UTC:20211208T210000
DTSTAMP:20260423T185115
CREATED:20211130T172036Z
LAST-MODIFIED:20211201T162746Z
UID:10001231-1638990000-1638997200@www.rpc.me
SUMMARY:Love Soup Launch & Book Signing
DESCRIPTION:Come join us as we celebrate the official launch and signing of Lisa Kelley’s new cookbook LOVE SOUP! \nLOVE SOUP is a peek inside the Kelley family mess. Lisa has put together a list of recipes that she’s collected from so many places – each coupled with a memory. And not all memories are equal. These recipes come from funny mistakes\, meaningful meals and the aspiration to be a great cook. \nLisa’s cookbook will make a great personal keepsake or gift for the holidays and has so many delicious recipes you won’t want to miss out on. \nIf you are unable to make it to our Richmond campus launch on the 8th\, we will also be celebrating the launch after service on December 11th & 12. \nCan’t wait to see you there!
URL:https://www.rpc.me/event/love-soup-launch-book-signing-2/
LOCATION:RPC Richmond Campus Lobby\, 21000 Southwest Fwy\, Richmond\, TX\, 77469\, United States
CATEGORIES:Richmond
ORGANIZER;CN="Richmond Campus":MAILTO:info@rpc.me
END:VEVENT
END:VCALENDAR