BEGIN:VCALENDAR
VERSION:2.0
PRODID:-//River Pointe Church - ECPv6.15.20//NONSGML v1.0//EN
CALSCALE:GREGORIAN
METHOD:PUBLISH
X-WR-CALNAME:River Pointe Church
X-ORIGINAL-URL:https://www.rpc.me
X-WR-CALDESC:Events for River Pointe Church
REFRESH-INTERVAL;VALUE=DURATION:PT1H
X-Robots-Tag:noindex
X-PUBLISHED-TTL:PT1H
BEGIN:VTIMEZONE
TZID:UTC
BEGIN:STANDARD
TZOFFSETFROM:+0000
TZOFFSETTO:+0000
TZNAME:UTC
DTSTART:20250101T000000
END:STANDARD
END:VTIMEZONE
BEGIN:VEVENT
DTSTART;TZID=UTC:20260429T190000
DTEND;TZID=UTC:20260429T210000
DTSTAMP:20260423T214324
CREATED:20250814T181449Z
LAST-MODIFIED:20260415T161812Z
UID:10001965-1777489200-1777496400@www.rpc.me
SUMMARY:Young Adults Service - Missouri City
DESCRIPTION:Young Adults (ages 18-30) from all three campuses are invited to our Missouri City Campus to gather for a night of worship\, a biblical message\, and meaningful connection. This is a space to grow in your faith\, build community\, and be encouraged alongside others in the same season of life.
URL:https://www.rpc.me/event/young-adults-service/
LOCATION:RPC Missouri City | Youth Room\, 7057 Knights Ct\, missouri City\, 77459\, United States
CATEGORIES:Missouri City,Richmond,West End Church
ORGANIZER;CN="Missouri City Campus":MAILTO:info@rpc.me
END:VEVENT
END:VCALENDAR