BEGIN:VCALENDAR
VERSION:2.0
PRODID:-//River Pointe Church - ECPv6.15.20//NONSGML v1.0//EN
CALSCALE:GREGORIAN
METHOD:PUBLISH
X-WR-CALNAME:River Pointe Church
X-ORIGINAL-URL:https://www.rpc.me
X-WR-CALDESC:Events for River Pointe Church
REFRESH-INTERVAL;VALUE=DURATION:PT1H
X-Robots-Tag:noindex
X-PUBLISHED-TTL:PT1H
BEGIN:VTIMEZONE
TZID:UTC
BEGIN:STANDARD
TZOFFSETFROM:+0000
TZOFFSETTO:+0000
TZNAME:UTC
DTSTART:20200101T000000
END:STANDARD
END:VTIMEZONE
BEGIN:VEVENT
DTSTART;TZID=UTC:20230414T180000
DTEND;TZID=UTC:20230414T200000
DTSTAMP:20260423T233521
CREATED:20230329T164643Z
LAST-MODIFIED:20230412T141713Z
UID:10001324-1681495200-1681502400@www.rpc.me
SUMMARY:Singles Crawfish Boil - Missouri City
DESCRIPTION:Join us for a night of food\, fun on our Missouri City Campus lawn. \nChildcare is available\, $10 per child.
URL:https://www.rpc.me/event/singled-out-a-night-of-rpc-mo-city-singles/
LOCATION:RPC Missouri City Campus\, 7057 Knights Ct\, Missouri City\, TX\, 77459
CATEGORIES:Missouri City
ORGANIZER;CN="Missouri City Campus":MAILTO:info@rpc.me
END:VEVENT
BEGIN:VEVENT
DTSTART;VALUE=DATE:20230303
DTEND;VALUE=DATE:20230306
DTSTAMP:20260423T233521
CREATED:20211006T201430Z
LAST-MODIFIED:20230228T204657Z
UID:10001091-1677801600-1678060799@www.rpc.me
SUMMARY:Youth Serve Weekend
DESCRIPTION:Serve WKND is an amazing opportunity for students grades 6-12th from all campuses to take part in a local missions opportunity. The Friday night portion of this service opportunity will take place at the Missouri City campus from 7-9pm. On Saturday\, we will check in at the Richmond campus but then divide and conquer across our community to serve at various local organizations. This event ends after a debrief and celebration on Sunday morning. We are excited for our youth to represent the light of Christ in our community this Serve WKND! \nBreakfast and lunch will be provided for students on Saturday. A shirt is included with registration. \n3/3/23 | Serve weekend kick off – at Missouri City campus 7-9pm\n3/4/23 | Serve day check in at the Richmond Campus @ 8:00am dismissal 5pm\n3/5/23 | Attend Sunday service at your home campus!
URL:https://www.rpc.me/event/winter-retreat-2022/
LOCATION:RPC Missouri City Campus\, 7057 Knights Ct\, Missouri City\, TX\, 77459
CATEGORIES:Missouri City,Richmond,West End Church
ORGANIZER;CN="Students - RPC Youth":MAILTO:students@rpc.me
END:VEVENT
BEGIN:VEVENT
DTSTART;TZID=UTC:20220925T120000
DTEND;TZID=UTC:20220925T140000
DTSTAMP:20260423T233521
CREATED:20220830T184721Z
LAST-MODIFIED:20220920T210136Z
UID:10001272-1664107200-1664114400@www.rpc.me
SUMMARY:Vision Meeting - Missouri City
DESCRIPTION:At River Pointe Church\, we are on a mission to reach the communities around us! Join us for one of our September vision meetings to hear more from Patrick about the exciting plans we have coming up and find out how you can join us in these initiatives. Bring your questions and be part of the conversation about the future of River Pointe Church.
URL:https://www.rpc.me/event/vision-meeting-missouri-city/
LOCATION:RPC Missouri City Campus\, 7057 Knights Ct\, Missouri City\, TX\, 77459
CATEGORIES:Missouri City
ORGANIZER;CN="Missouri City Campus":MAILTO:info@rpc.me
END:VEVENT
BEGIN:VEVENT
DTSTART;TZID=UTC:20211219T120000
DTEND;TZID=UTC:20211219T140000
DTSTAMP:20260423T233521
CREATED:20211130T172005Z
LAST-MODIFIED:20211130T172005Z
UID:10001230-1639915200-1639922400@www.rpc.me
SUMMARY:Love Soup Launch & Book Signing
DESCRIPTION:Come join us as we celebrate the official launch and signing of Lisa Kelley’s new cookbook LOVE SOUP! \nLOVE SOUP is a peek inside the Kelley family mess. Lisa has put together a list of recipes that she’s collected from so many places – each coupled with a memory. And not all memories are equal. These recipes come from funny mistakes\, meaningful meals and the aspiration to be a great cook. \nLisa’s cookbook will make a great personal keepsake or gift for the holidays and has so many delicious recipes you won’t want to miss out on. Can’t wait to see you there!
URL:https://www.rpc.me/event/love-soup-launch-book-signing/
LOCATION:RPC Missouri City Campus\, 7057 Knights Ct\, Missouri City\, TX\, 77459
CATEGORIES:Missouri City
ORGANIZER;CN="Missouri City Campus":MAILTO:info@rpc.me
END:VEVENT
BEGIN:VEVENT
DTSTART;VALUE=DATE:20211017
DTEND;VALUE=DATE:20211101
DTSTAMP:20260423T233521
CREATED:20211006T192801Z
LAST-MODIFIED:20211006T192801Z
UID:10001087-1634428800-1635724799@www.rpc.me
SUMMARY:Be Rich Collection
DESCRIPTION:We would love for you to join us in collecting Christmas gifts for children whose fathers are incarcerated by offering gifts. This simple act of giving is the best way these men are able to give Christmas presents to their children. We will be collecting gifts for all genders and ages up to 18 years old. Please drop items off between 9am to 5pm. Please be sure to read the gift guide and see all requirements:   \n– All gifts must be unwrapped\n– No liquids or creams (nail polish\, nail polish remover\, body lotion\, etc.)\n– No glass or mirrors\n– No gun toys\, any kinds of weapons or anything that could be construed as a weapon\n– No baseball bats\n– No clothing of any kind (jackets\, sweaters\, socks\, t-shirts\, shoes\, etc.) \n  \nItems can be dropped off at the back doors during the week and in the Lobby during Sunday services.
URL:https://www.rpc.me/event/be-rich-collection-2/
LOCATION:RPC Missouri City Campus\, 7057 Knights Ct\, Missouri City\, TX\, 77459
CATEGORIES:Missouri City
ORGANIZER;CN="Missouri City Campus":MAILTO:info@rpc.me
END:VEVENT
BEGIN:VEVENT
DTSTART;VALUE=DATE:20211016
DTEND;VALUE=DATE:20211031
DTSTAMP:20260423T233521
CREATED:20210929T204220Z
LAST-MODIFIED:20210929T204220Z
UID:10001085-1634342400-1635638399@www.rpc.me
SUMMARY:Missouri City Fitness Project
DESCRIPTION:Meet us outside every Saturday starting October 16 for our three week boot camp! Bring a yoga/exercise mat and water. We hope to see you there.
URL:https://www.rpc.me/event/missouri-city-fitness-project/
LOCATION:RPC Missouri City Campus\, 7057 Knights Ct\, Missouri City\, TX\, 77459
CATEGORIES:Missouri City
ORGANIZER;CN="Missouri City Campus":MAILTO:info@rpc.me
END:VEVENT
END:VCALENDAR