BEGIN:VCALENDAR
VERSION:2.0
PRODID:-//River Pointe Church - ECPv6.15.20//NONSGML v1.0//EN
CALSCALE:GREGORIAN
METHOD:PUBLISH
X-WR-CALNAME:River Pointe Church
X-ORIGINAL-URL:https://www.rpc.me
X-WR-CALDESC:Events for River Pointe Church
REFRESH-INTERVAL;VALUE=DURATION:PT1H
X-Robots-Tag:noindex
X-PUBLISHED-TTL:PT1H
BEGIN:VTIMEZONE
TZID:UTC
BEGIN:STANDARD
TZOFFSETFROM:+0000
TZOFFSETTO:+0000
TZNAME:UTC
DTSTART:20250101T000000
END:STANDARD
END:VTIMEZONE
BEGIN:VEVENT
DTSTART;TZID=UTC:20260510T091500
DTEND;TZID=UTC:20260510T120000
DTSTAMP:20260423T150112
CREATED:20220930T162042Z
LAST-MODIFIED:20260306T210051Z
UID:10001285-1778404500-1778414400@www.rpc.me
SUMMARY:Parent-Child Dedication – Missouri City
DESCRIPTION:When a family comes to a place where they decide to raise their young child to follow Jesus\, we celebrate\, support and pray for the family during one of our church services. Parent-Child Dedication is open to families with children from birth to kindergarten. \nDuring 9:15am and 11am services.
URL:https://www.rpc.me/event/parent-child-dedication-missouri-city/
LOCATION:RPC Missouri City Campus\, 7057 Knights Ct\, Missouri City\, TX\, 77459
CATEGORIES:Missouri City
ORGANIZER;CN="RPC|WE Kids":MAILTO:kids@rpc.me
END:VEVENT
BEGIN:VEVENT
DTSTART;TZID=UTC:20260516T110000
DTEND;TZID=UTC:20260516T130000
DTSTAMP:20260423T150112
CREATED:20260323T185953Z
LAST-MODIFIED:20260420T202533Z
UID:10001971-1778929200-1778936400@www.rpc.me
SUMMARY:Elementary All-Star Battle Cup
DESCRIPTION:Get ready for The All-Star Battle Cup – the ultimate Saturday showdown for 1st-5th grade! Teams will battle it out in sports\, obstacle challenges\, and Nerf wars before celebrating with lunch\, worship\, and trophies for everyone. It’s going to be a day of fun\, teamwork\, and unforgettable memories!
URL:https://www.rpc.me/event/elementary-all-star-battle-cup/
LOCATION:RPC Missouri City Campus\, 7057 Knights Ct\, Missouri City\, TX\, 77459
CATEGORIES:Missouri City
ORGANIZER;CN="Missouri City Campus":MAILTO:info@rpc.me
END:VEVENT
END:VCALENDAR