BEGIN:VCALENDAR
VERSION:2.0
PRODID:-//River Pointe Church - ECPv6.15.20//NONSGML v1.0//EN
CALSCALE:GREGORIAN
METHOD:PUBLISH
X-WR-CALNAME:River Pointe Church
X-ORIGINAL-URL:https://www.rpc.me
X-WR-CALDESC:Events for River Pointe Church
REFRESH-INTERVAL;VALUE=DURATION:PT1H
X-Robots-Tag:noindex
X-PUBLISHED-TTL:PT1H
BEGIN:VTIMEZONE
TZID:UTC
BEGIN:STANDARD
TZOFFSETFROM:+0000
TZOFFSETTO:+0000
TZNAME:UTC
DTSTART:20230101T000000
END:STANDARD
END:VTIMEZONE
BEGIN:VEVENT
DTSTART;TZID=UTC:20260302T100000
DTEND;TZID=UTC:20260302T110000
DTSTAMP:20260423T164524
CREATED:20260113T165606Z
LAST-MODIFIED:20260120T203134Z
UID:10001935-1772445600-1772449200@www.rpc.me
SUMMARY:Jesus and Joy
DESCRIPTION:Ages: 18 months to 4 years old\nJoin us for a delightful parent and child class that combines the joy of worship with energetic movement! Our sessions are centered around uplifting music focused on Jesus and joy\, creating a fun and worshipful atmosphere. Little ones will engage in a variety of gross motor activities\, including rolling\, stretching\, jumping\, and exploring gymnastics stations. It’s a perfect way for parents and children to bond\, have fun\, and experience the joy of worship together!
URL:https://www.rpc.me/event/jesus-and-joy/2026-03-02/
LOCATION:RPC Missouri City Campus\, 7057 Knights Ct\, Missouri City\, TX\, 77459
CATEGORIES:Missouri City
ORGANIZER;CN="Missouri City Campus":MAILTO:info@rpc.me
END:VEVENT
BEGIN:VEVENT
DTSTART;TZID=UTC:20260223T100000
DTEND;TZID=UTC:20260223T110000
DTSTAMP:20260423T164524
CREATED:20260113T165606Z
LAST-MODIFIED:20260120T203134Z
UID:10001934-1771840800-1771844400@www.rpc.me
SUMMARY:Jesus and Joy
DESCRIPTION:Ages: 18 months to 4 years old\nJoin us for a delightful parent and child class that combines the joy of worship with energetic movement! Our sessions are centered around uplifting music focused on Jesus and joy\, creating a fun and worshipful atmosphere. Little ones will engage in a variety of gross motor activities\, including rolling\, stretching\, jumping\, and exploring gymnastics stations. It’s a perfect way for parents and children to bond\, have fun\, and experience the joy of worship together!
URL:https://www.rpc.me/event/jesus-and-joy/2026-02-23/
LOCATION:RPC Missouri City Campus\, 7057 Knights Ct\, Missouri City\, TX\, 77459
CATEGORIES:Missouri City
ORGANIZER;CN="Missouri City Campus":MAILTO:info@rpc.me
END:VEVENT
BEGIN:VEVENT
DTSTART;TZID=UTC:20260222T091500
DTEND;TZID=UTC:20260222T120000
DTSTAMP:20260423T164524
CREATED:20240130T220253Z
LAST-MODIFIED:20260204T181702Z
UID:10001413-1771751700-1771761600@www.rpc.me
SUMMARY:Rodeo Weekend - Missouri City
DESCRIPTION:Rodeo season is here! Pull out your favorite cowboy boots and Western gear & join us for our annual Rodeo Weekend.\nGrab your friends\, and join us for some great country music\, fun for the kids and a helpful message.
URL:https://www.rpc.me/event/rodeo-weekend-missouri-city/
LOCATION:RPC Missouri City Campus\, 7057 Knights Ct\, Missouri City\, TX\, 77459
CATEGORIES:Missouri City
ORGANIZER;CN="Missouri City Campus":MAILTO:info@rpc.me
END:VEVENT
BEGIN:VEVENT
DTSTART;TZID=UTC:20260216T100000
DTEND;TZID=UTC:20260216T110000
DTSTAMP:20260423T164524
CREATED:20260113T165606Z
LAST-MODIFIED:20260120T203134Z
UID:10001931-1771236000-1771239600@www.rpc.me
SUMMARY:Jesus and Joy
DESCRIPTION:Ages: 18 months to 4 years old\nJoin us for a delightful parent and child class that combines the joy of worship with energetic movement! Our sessions are centered around uplifting music focused on Jesus and joy\, creating a fun and worshipful atmosphere. Little ones will engage in a variety of gross motor activities\, including rolling\, stretching\, jumping\, and exploring gymnastics stations. It’s a perfect way for parents and children to bond\, have fun\, and experience the joy of worship together!
URL:https://www.rpc.me/event/jesus-and-joy/2026-02-16/
LOCATION:RPC Missouri City Campus\, 7057 Knights Ct\, Missouri City\, TX\, 77459
CATEGORIES:Missouri City
ORGANIZER;CN="Missouri City Campus":MAILTO:info@rpc.me
END:VEVENT
BEGIN:VEVENT
DTSTART;TZID=UTC:20251026T173000
DTEND;TZID=UTC:20251026T193000
DTSTAMP:20260423T164524
CREATED:20250929T151419Z
LAST-MODIFIED:20250929T151419Z
UID:10001914-1761499800-1761507000@www.rpc.me
SUMMARY:Fall Fest
DESCRIPTION:Join us for a fun-filled evening the whole family will enjoy! We’ll have Hay Rides\, live music\, face painting\, games for kids and an inflatable corn maze! Bring your family\, invite your friends\, and don’t miss this unforgettable night of fall fun! \nNo registration required – just show up and enjoy!
URL:https://www.rpc.me/event/fall-fest-2/
LOCATION:RPC Missouri City Campus\, 7057 Knights Ct\, Missouri City\, TX\, 77459
CATEGORIES:Missouri City
ORGANIZER;CN="Missouri City Campus":MAILTO:info@rpc.me
END:VEVENT
BEGIN:VEVENT
DTSTART;TZID=UTC:20251026T093000
DTEND;TZID=UTC:20251026T120000
DTSTAMP:20260423T164524
CREATED:20241002T162011Z
LAST-MODIFIED:20250910T191741Z
UID:10001655-1761471000-1761480000@www.rpc.me
SUMMARY:Mega Awesome Costume Party - Missouri City
DESCRIPTION:Join us on Sunday\, October 26 during all services for our Mega Awesome Costume Party! Kids are invited to come dressed in their favorite fun (not scary!) costumes and enjoy a special treat just for them. It’s going to be a day full of joy\, laughter\, and celebration as we worship together and let the kiddos show off their creativity. Don’t miss this chance for your child to dress up and have fun! \nSunday\, October 26th\nDuring all service times: 9:30am & 11am \n 
URL:https://www.rpc.me/event/mega-awesome-costume-party-missouri-city/
LOCATION:RPC Missouri City Campus\, 7057 Knights Ct\, Missouri City\, TX\, 77459
CATEGORIES:Missouri City
ORGANIZER;CN="Missouri City Campus":MAILTO:info@rpc.me
END:VEVENT
BEGIN:VEVENT
DTSTART;TZID=UTC:20250803T090000
DTEND;TZID=UTC:20250803T120000
DTSTAMP:20260423T164524
CREATED:20240719T184738Z
LAST-MODIFIED:20250722T154341Z
UID:10001892-1754211600-1754222400@www.rpc.me
SUMMARY:School Supply Drive - Missouri City
DESCRIPTION:We’re collecting new school supplies for the Back to School Drive benefiting FBISD Shared Dreams Program. You can drop off on donations on Sundays before and after services in the blue bins located in the lobby.\nSupply list\n#2 Pencils\nPencil Box/Bags\n24-count Crayons\nGlue Sticks\nMarkers\nBlock Erasers\nAdult Scissors\nLarge Adult Backpacks\nIndex Cards\nFeminine Pads\nTissues
URL:https://www.rpc.me/event/school-supply-drive-missouri-city/2025-08-03/
LOCATION:RPC Missouri City Campus\, 7057 Knights Ct\, Missouri City\, TX\, 77459
CATEGORIES:Missouri City
ORGANIZER;CN="RPC|WE Kids":MAILTO:kids@rpc.me
END:VEVENT
BEGIN:VEVENT
DTSTART;TZID=UTC:20250727T090000
DTEND;TZID=UTC:20250727T120000
DTSTAMP:20260423T164524
CREATED:20240719T184738Z
LAST-MODIFIED:20250722T154341Z
UID:10001891-1753606800-1753617600@www.rpc.me
SUMMARY:School Supply Drive - Missouri City
DESCRIPTION:We’re collecting new school supplies for the Back to School Drive benefiting FBISD Shared Dreams Program. You can drop off on donations on Sundays before and after services in the blue bins located in the lobby.\nSupply list\n#2 Pencils\nPencil Box/Bags\n24-count Crayons\nGlue Sticks\nMarkers\nBlock Erasers\nAdult Scissors\nLarge Adult Backpacks\nIndex Cards\nFeminine Pads\nTissues
URL:https://www.rpc.me/event/school-supply-drive-missouri-city/2025-07-27/
LOCATION:RPC Missouri City Campus\, 7057 Knights Ct\, Missouri City\, TX\, 77459
CATEGORIES:Missouri City
ORGANIZER;CN="RPC|WE Kids":MAILTO:kids@rpc.me
END:VEVENT
BEGIN:VEVENT
DTSTART;TZID=UTC:20250720T090000
DTEND;TZID=UTC:20250720T120000
DTSTAMP:20260423T164524
CREATED:20240719T184738Z
LAST-MODIFIED:20250722T154341Z
UID:10001890-1753002000-1753012800@www.rpc.me
SUMMARY:School Supply Drive - Missouri City
DESCRIPTION:We’re collecting new school supplies for the Back to School Drive benefiting FBISD Shared Dreams Program. You can drop off on donations on Sundays before and after services in the blue bins located in the lobby.\nSupply list\n#2 Pencils\nPencil Box/Bags\n24-count Crayons\nGlue Sticks\nMarkers\nBlock Erasers\nAdult Scissors\nLarge Adult Backpacks\nIndex Cards\nFeminine Pads\nTissues
URL:https://www.rpc.me/event/school-supply-drive-missouri-city/2025-07-20/
LOCATION:RPC Missouri City Campus\, 7057 Knights Ct\, Missouri City\, TX\, 77459
CATEGORIES:Missouri City
ORGANIZER;CN="RPC|WE Kids":MAILTO:kids@rpc.me
END:VEVENT
BEGIN:VEVENT
DTSTART;TZID=UTC:20250706T090000
DTEND;TZID=UTC:20250706T120000
DTSTAMP:20260423T164524
CREATED:20250605T160143Z
LAST-MODIFIED:20250702T152813Z
UID:10001887-1751792400-1751803200@www.rpc.me
SUMMARY:First Night Hygiene Bag Drive
DESCRIPTION:Support Kids in Foster Care – Hygiene Bag Drive\nRPC Mo City is partnering with Cultivating Families to collect hygiene items for children entering foster care. These First Night Bags offer comfort and care during a difficult transition. Donations will be packed by our Serve Campers and delivered to the Rainbow Room to support kids in need. Thank you for making a difference! \nDrop-Off Details:🗓 June 9 – July 6🕘 Monday–Friday\, 9AM–12PM📍 Collection box at RPC Mo City – Kids Ministry check-in desk \nItems Needed:\n \n\nShampoo & Conditioner (10–13 oz)\nBody Wash (10-13 oz.\, no bar soap)\nLotion\nYouth Toothpaste & Floss\nWashcloth\nBrush or Comb\nDrawstring Bags (to place items in)
URL:https://www.rpc.me/event/first-night-hygiene-bag-drive/2025-07-06/
LOCATION:RPC Missouri City Campus\, 7057 Knights Ct\, Missouri City\, TX\, 77459
CATEGORIES:Missouri City
ORGANIZER;CN="RPC|WE Kids":MAILTO:kids@rpc.me
END:VEVENT
BEGIN:VEVENT
DTSTART;TZID=UTC:20250703T090000
DTEND;TZID=UTC:20250703T120000
DTSTAMP:20260423T164524
CREATED:20250605T160143Z
LAST-MODIFIED:20250702T152813Z
UID:10001886-1751533200-1751544000@www.rpc.me
SUMMARY:First Night Hygiene Bag Drive
DESCRIPTION:Support Kids in Foster Care – Hygiene Bag Drive\nRPC Mo City is partnering with Cultivating Families to collect hygiene items for children entering foster care. These First Night Bags offer comfort and care during a difficult transition. Donations will be packed by our Serve Campers and delivered to the Rainbow Room to support kids in need. Thank you for making a difference! \nDrop-Off Details:🗓 June 9 – July 6🕘 Monday–Friday\, 9AM–12PM📍 Collection box at RPC Mo City – Kids Ministry check-in desk \nItems Needed:\n \n\nShampoo & Conditioner (10–13 oz)\nBody Wash (10-13 oz.\, no bar soap)\nLotion\nYouth Toothpaste & Floss\nWashcloth\nBrush or Comb\nDrawstring Bags (to place items in)
URL:https://www.rpc.me/event/first-night-hygiene-bag-drive/2025-07-03/
LOCATION:RPC Missouri City Campus\, 7057 Knights Ct\, Missouri City\, TX\, 77459
CATEGORIES:Missouri City
ORGANIZER;CN="RPC|WE Kids":MAILTO:kids@rpc.me
END:VEVENT
BEGIN:VEVENT
DTSTART;TZID=UTC:20250702T090000
DTEND;TZID=UTC:20250702T120000
DTSTAMP:20260423T164524
CREATED:20250605T160143Z
LAST-MODIFIED:20250702T152813Z
UID:10001885-1751446800-1751457600@www.rpc.me
SUMMARY:First Night Hygiene Bag Drive
DESCRIPTION:Support Kids in Foster Care – Hygiene Bag Drive\nRPC Mo City is partnering with Cultivating Families to collect hygiene items for children entering foster care. These First Night Bags offer comfort and care during a difficult transition. Donations will be packed by our Serve Campers and delivered to the Rainbow Room to support kids in need. Thank you for making a difference! \nDrop-Off Details:🗓 June 9 – July 6🕘 Monday–Friday\, 9AM–12PM📍 Collection box at RPC Mo City – Kids Ministry check-in desk \nItems Needed:\n \n\nShampoo & Conditioner (10–13 oz)\nBody Wash (10-13 oz.\, no bar soap)\nLotion\nYouth Toothpaste & Floss\nWashcloth\nBrush or Comb\nDrawstring Bags (to place items in)
URL:https://www.rpc.me/event/first-night-hygiene-bag-drive/2025-07-02/
LOCATION:RPC Missouri City Campus\, 7057 Knights Ct\, Missouri City\, TX\, 77459
CATEGORIES:Missouri City
ORGANIZER;CN="RPC|WE Kids":MAILTO:kids@rpc.me
END:VEVENT
BEGIN:VEVENT
DTSTART;TZID=UTC:20250609T090000
DTEND;TZID=UTC:20250609T120000
DTSTAMP:20260423T164524
CREATED:20250605T160143Z
LAST-MODIFIED:20250702T152813Z
UID:10001866-1749459600-1749470400@www.rpc.me
SUMMARY:First Night Hygiene Bag Drive
DESCRIPTION:Support Kids in Foster Care – Hygiene Bag Drive\nRPC Mo City is partnering with Cultivating Families to collect hygiene items for children entering foster care. These First Night Bags offer comfort and care during a difficult transition. Donations will be packed by our Serve Campers and delivered to the Rainbow Room to support kids in need. Thank you for making a difference! \nDrop-Off Details:🗓 June 9 – July 6🕘 Monday–Friday\, 9AM–12PM📍 Collection box at RPC Mo City – Kids Ministry check-in desk \nItems Needed:\n \n\nShampoo & Conditioner (10–13 oz)\nBody Wash (10-13 oz.\, no bar soap)\nLotion\nYouth Toothpaste & Floss\nWashcloth\nBrush or Comb\nDrawstring Bags (to place items in)
URL:https://www.rpc.me/event/first-night-hygiene-bag-drive/2025-06-09/
LOCATION:RPC Missouri City Campus\, 7057 Knights Ct\, Missouri City\, TX\, 77459
CATEGORIES:Missouri City
ORGANIZER;CN="RPC|WE Kids":MAILTO:kids@rpc.me
END:VEVENT
BEGIN:VEVENT
DTSTART;TZID=UTC:20250530T180000
DTEND;TZID=UTC:20250530T200000
DTSTAMP:20260423T164524
CREATED:20250429T201100Z
LAST-MODIFIED:20250429T201100Z
UID:10001860-1748628000-1748635200@www.rpc.me
SUMMARY:Slide Your Way into Middle School
DESCRIPTION:Slip and Slide Kickball for Promotion Weekend with current 5th and 6th graders. Join us for an epic night of fun as we celebrate our amazing 5th graders promoting into student ministry! They’ll get a sneak peek of what youth is all about and hang out with current 6th graders who are already in the mix. 6th graders-you’re invited too! Help us welcome the incoming class and show them what student ministry is all about. We’ll wrap up the night with the ultimate Slip ‘N Slide Kickball showdown\, so come ready to slide\, splash\, and celebrate!
URL:https://www.rpc.me/event/slide-your-way-into-middle-school/
LOCATION:RPC Missouri City Campus\, 7057 Knights Ct\, Missouri City\, TX\, 77459
CATEGORIES:Missouri City
ORGANIZER;CN="RPC|WE Kids":MAILTO:kids@rpc.me
END:VEVENT
BEGIN:VEVENT
DTSTART;TZID=UTC:20250326T183000
DTEND;TZID=UTC:20250326T193000
DTSTAMP:20260423T164524
CREATED:20250204T170052Z
LAST-MODIFIED:20250204T170614Z
UID:10001793-1743013800-1743017400@www.rpc.me
SUMMARY:Women of Mo
DESCRIPTION:Women of Mo (WOMO)\, is a multi-generational gathering for women looking for fellowship and a chance to grow in their faith through all stages of life.  This season\, we are taking a deeper look at women of the Bible for an incredible 6-week series filled with stories\, wisdom\, laughter and a lot of fun!
URL:https://www.rpc.me/event/women-of-mo/2025-03-26/
LOCATION:RPC Missouri City Campus\, 7057 Knights Ct\, Missouri City\, TX\, 77459
CATEGORIES:Missouri City
ORGANIZER;CN="Missouri City Campus":MAILTO:info@rpc.me
END:VEVENT
BEGIN:VEVENT
DTSTART;TZID=UTC:20250319T183000
DTEND;TZID=UTC:20250319T193000
DTSTAMP:20260423T164524
CREATED:20250204T170052Z
LAST-MODIFIED:20250204T170614Z
UID:10001792-1742409000-1742412600@www.rpc.me
SUMMARY:Women of Mo
DESCRIPTION:Women of Mo (WOMO)\, is a multi-generational gathering for women looking for fellowship and a chance to grow in their faith through all stages of life.  This season\, we are taking a deeper look at women of the Bible for an incredible 6-week series filled with stories\, wisdom\, laughter and a lot of fun!
URL:https://www.rpc.me/event/women-of-mo/2025-03-19/
LOCATION:RPC Missouri City Campus\, 7057 Knights Ct\, Missouri City\, TX\, 77459
CATEGORIES:Missouri City
ORGANIZER;CN="Missouri City Campus":MAILTO:info@rpc.me
END:VEVENT
BEGIN:VEVENT
DTSTART;TZID=UTC:20250305T183000
DTEND;TZID=UTC:20250305T193000
DTSTAMP:20260423T164524
CREATED:20250204T170052Z
LAST-MODIFIED:20250204T170614Z
UID:10001790-1741199400-1741203000@www.rpc.me
SUMMARY:Women of Mo
DESCRIPTION:Women of Mo (WOMO)\, is a multi-generational gathering for women looking for fellowship and a chance to grow in their faith through all stages of life.  This season\, we are taking a deeper look at women of the Bible for an incredible 6-week series filled with stories\, wisdom\, laughter and a lot of fun!
URL:https://www.rpc.me/event/women-of-mo/2025-03-05/
LOCATION:RPC Missouri City Campus\, 7057 Knights Ct\, Missouri City\, TX\, 77459
CATEGORIES:Missouri City
ORGANIZER;CN="Missouri City Campus":MAILTO:info@rpc.me
END:VEVENT
BEGIN:VEVENT
DTSTART;TZID=UTC:20250226T183000
DTEND;TZID=UTC:20250226T193000
DTSTAMP:20260423T164524
CREATED:20250204T170052Z
LAST-MODIFIED:20250204T170614Z
UID:10001789-1740594600-1740598200@www.rpc.me
SUMMARY:Women of Mo
DESCRIPTION:Women of Mo (WOMO)\, is a multi-generational gathering for women looking for fellowship and a chance to grow in their faith through all stages of life.  This season\, we are taking a deeper look at women of the Bible for an incredible 6-week series filled with stories\, wisdom\, laughter and a lot of fun!
URL:https://www.rpc.me/event/women-of-mo/2025-02-26/
LOCATION:RPC Missouri City Campus\, 7057 Knights Ct\, Missouri City\, TX\, 77459
CATEGORIES:Missouri City
ORGANIZER;CN="Missouri City Campus":MAILTO:info@rpc.me
END:VEVENT
BEGIN:VEVENT
DTSTART;TZID=UTC:20250219T183000
DTEND;TZID=UTC:20250219T193000
DTSTAMP:20260423T164524
CREATED:20250204T170052Z
LAST-MODIFIED:20250204T170614Z
UID:10001788-1739989800-1739993400@www.rpc.me
SUMMARY:Women of Mo
DESCRIPTION:Women of Mo (WOMO)\, is a multi-generational gathering for women looking for fellowship and a chance to grow in their faith through all stages of life.  This season\, we are taking a deeper look at women of the Bible for an incredible 6-week series filled with stories\, wisdom\, laughter and a lot of fun!
URL:https://www.rpc.me/event/women-of-mo/2025-02-19/
LOCATION:RPC Missouri City Campus\, 7057 Knights Ct\, Missouri City\, TX\, 77459
CATEGORIES:Missouri City
ORGANIZER;CN="Missouri City Campus":MAILTO:info@rpc.me
END:VEVENT
BEGIN:VEVENT
DTSTART;TZID=UTC:20250212T183000
DTEND;TZID=UTC:20250212T193000
DTSTAMP:20260423T164524
CREATED:20250204T170052Z
LAST-MODIFIED:20250204T170614Z
UID:10001787-1739385000-1739388600@www.rpc.me
SUMMARY:Women of Mo
DESCRIPTION:Women of Mo (WOMO)\, is a multi-generational gathering for women looking for fellowship and a chance to grow in their faith through all stages of life.  This season\, we are taking a deeper look at women of the Bible for an incredible 6-week series filled with stories\, wisdom\, laughter and a lot of fun!
URL:https://www.rpc.me/event/women-of-mo/2025-02-12/
LOCATION:RPC Missouri City Campus\, 7057 Knights Ct\, Missouri City\, TX\, 77459
CATEGORIES:Missouri City
ORGANIZER;CN="Missouri City Campus":MAILTO:info@rpc.me
END:VEVENT
BEGIN:VEVENT
DTSTART;TZID=UTC:20241214T090000
DTEND;TZID=UTC:20241214T130000
DTSTAMP:20260423T164524
CREATED:20221108T180237Z
LAST-MODIFIED:20240807T192429Z
UID:10001294-1734166800-1734181200@www.rpc.me
SUMMARY:Parents Escape to the North Pole
DESCRIPTION:This event is an opportunity for parents/guardians to escape to the North Pole while our elves at Missouri City keep all of the little ones safe with lots of fun and games! Lunch will be provided.
URL:https://www.rpc.me/event/parents-escape-to-the-north-pole/
LOCATION:RPC Missouri City Campus\, 7057 Knights Ct\, Missouri City\, TX\, 77459
CATEGORIES:Missouri City
ORGANIZER;CN="RPC|WE Kids":MAILTO:kids@rpc.me
END:VEVENT
BEGIN:VEVENT
DTSTART;TZID=UTC:20241102T090000
DTEND;TZID=UTC:20241102T123000
DTSTAMP:20260423T164524
CREATED:20210922T135935Z
LAST-MODIFIED:20240911T192029Z
UID:10001083-1730538000-1730550600@www.rpc.me
SUMMARY:Meals 4 Kids - Missouri City
DESCRIPTION:Meals 4 Kids (M4K) is a service project allowing you to participate in a global mission effort in your own backyard. On Saturday\, November 2nd\, we will gather over 1\,000 volunteers at all 3 campuses to measure\, package\, and prepare 190\,000 meals for shipment to children locally and internationally. (100\,000 RC / 50\,000 MC / 40\,000 WE) \nFirst Shift: 9:00am – 10:30am | Second Shift: 11:00am – 12:30pm
URL:https://www.rpc.me/event/meals-for-kids-2/
LOCATION:RPC Missouri City Campus\, 7057 Knights Ct\, Missouri City\, TX\, 77459
CATEGORIES:Missouri City
ORGANIZER;CN="Missions":MAILTO:missions@rpc.me
END:VEVENT
BEGIN:VEVENT
DTSTART;TZID=UTC:20241027T170000
DTEND;TZID=UTC:20241027T190000
DTSTAMP:20260423T164524
CREATED:20240930T205413Z
LAST-MODIFIED:20241016T172507Z
UID:10001654-1730048400-1730055600@www.rpc.me
SUMMARY:Trunk or Treat - Missouri City
DESCRIPTION:Join us at our annual Trunk or Treat\, a festival for the entire family! This will be an evening filled with fun\, including Trunk-or-Treat (with a Trunk Decorating contest)\, food\, music\, hayrides\, crafts for the kids and much more.
URL:https://www.rpc.me/event/trunk-or-treat-missouri-city/
LOCATION:RPC Missouri City Campus\, 7057 Knights Ct\, Missouri City\, TX\, 77459
CATEGORIES:Missouri City
ORGANIZER;CN="Missouri City Campus":MAILTO:info@rpc.me
END:VEVENT
BEGIN:VEVENT
DTSTART;TZID=UTC:20240904T183000
DTEND;TZID=UTC:20240904T200000
DTSTAMP:20260423T164524
CREATED:20231103T162857Z
LAST-MODIFIED:20240815T181514Z
UID:10001643-1725474600-1725480000@www.rpc.me
SUMMARY:Date Night @ Mo
DESCRIPTION:Married and engaged couples join us for an all-new session of Date Night. This 4-week group gathering will create space for you to meet other couples\, spend some time with your spouse\, and to have a little fun! Childcare is available.
URL:https://www.rpc.me/event/date-night-mo-2/2024-09-04/
LOCATION:RPC Missouri City Campus\, 7057 Knights Ct\, Missouri City\, TX\, 77459
CATEGORIES:Missouri City
ORGANIZER;CN="Missouri City Campus":MAILTO:info@rpc.me
END:VEVENT
BEGIN:VEVENT
DTSTART;TZID=UTC:20240828T183000
DTEND;TZID=UTC:20240828T200000
DTSTAMP:20260423T164524
CREATED:20231103T162857Z
LAST-MODIFIED:20240815T181514Z
UID:10001642-1724869800-1724875200@www.rpc.me
SUMMARY:Date Night @ Mo
DESCRIPTION:Married and engaged couples join us for an all-new session of Date Night. This 4-week group gathering will create space for you to meet other couples\, spend some time with your spouse\, and to have a little fun! Childcare is available.
URL:https://www.rpc.me/event/date-night-mo-2/2024-08-28/
LOCATION:RPC Missouri City Campus\, 7057 Knights Ct\, Missouri City\, TX\, 77459
CATEGORIES:Missouri City
ORGANIZER;CN="Missouri City Campus":MAILTO:info@rpc.me
END:VEVENT
BEGIN:VEVENT
DTSTART;TZID=UTC:20240821T183000
DTEND;TZID=UTC:20240821T203000
DTSTAMP:20260423T164524
CREATED:20231103T162857Z
LAST-MODIFIED:20240815T181514Z
UID:10001585-1724265000-1724272200@www.rpc.me
SUMMARY:Date Night @ Mo
DESCRIPTION:Married and engaged couples join us for an all-new session of Date Night. This 4-week group gathering will create space for you to meet other couples\, spend some time with your spouse\, and to have a little fun! Childcare is available.
URL:https://www.rpc.me/event/date-night-mo-2/2024-08-21/
LOCATION:RPC Missouri City Campus\, 7057 Knights Ct\, Missouri City\, TX\, 77459
CATEGORIES:Missouri City
ORGANIZER;CN="Missouri City Campus":MAILTO:info@rpc.me
END:VEVENT
BEGIN:VEVENT
DTSTART;TZID=UTC:20240808T090000
DTEND;TZID=UTC:20240808T133000
DTSTAMP:20260423T164524
CREATED:20220224T223216Z
LAST-MODIFIED:20240723T144511Z
UID:10001241-1723107600-1723123800@www.rpc.me
SUMMARY:Blood Drive - Missouri City
DESCRIPTION:Scoop up some goodness. Donate Blood. Summer just got sweeter! The Gulf Coast Regional Blood Center is partnering with Blue Bell to offer donors who give blood in August a complimentary Blue Bell voucher for a free pint of ice cream and heartfelt thanks! You also get a backpack for donating!
URL:https://www.rpc.me/event/missouri-city-blood-drive-2/
LOCATION:RPC Missouri City Campus\, 7057 Knights Ct\, Missouri City\, TX\, 77459
CATEGORIES:Missouri City
ORGANIZER;CN="Missouri City Campus":MAILTO:info@rpc.me
END:VEVENT
BEGIN:VEVENT
DTSTART;TZID=UTC:20240630T093000
DTEND;TZID=UTC:20240630T120000
DTSTAMP:20260423T164524
CREATED:20240605T145348Z
LAST-MODIFIED:20240605T145348Z
UID:10001447-1719739800-1719748800@www.rpc.me
SUMMARY:New Senior Pastor Celebration - Missouri City
DESCRIPTION:Our new Senior Pastor Chad Bruegman and his family are moving to Houston. We’d love for you to join us as we welcome The Bruegmans to the River Pointe & West End family on Sunday\, June 30 during our regular service times.
URL:https://www.rpc.me/event/new-senior-pastor-celebration-missouri-city/
LOCATION:RPC Missouri City Campus\, 7057 Knights Ct\, Missouri City\, TX\, 77459
CATEGORIES:Missouri City
ORGANIZER;CN="Missouri City Campus":MAILTO:info@rpc.me
END:VEVENT
BEGIN:VEVENT
DTSTART;TZID=UTC:20240303T093000
DTEND;TZID=UTC:20240303T110000
DTSTAMP:20260423T164524
CREATED:20240223T161128Z
LAST-MODIFIED:20240223T161440Z
UID:10001419-1709458200-1709463600@www.rpc.me
SUMMARY:Member Vote for Senior Pastor - Missouri City
DESCRIPTION:Our Advisory Team & Trustees announced the dates for our Membership Vote for Senior Pastor. Join us for an in-service vote Thursday\, February 29th at 7pm or Sunday\, March 3rd at 9:30am & 11am. \nCan’t attend in person? Tune in during our online services to vote on Sunday\, March 3rd at 9:30am or 11am on our RPC|WE YouTube channel. \nVisit rpc.me/pastor for more information.
URL:https://www.rpc.me/event/member-vote-for-senior-pastor-3/
LOCATION:RPC Missouri City Campus\, 7057 Knights Ct\, Missouri City\, TX\, 77459
CATEGORIES:Missouri City
ORGANIZER;CN="Missouri City Campus":MAILTO:info@rpc.me
END:VEVENT
BEGIN:VEVENT
DTSTART;TZID=UTC:20240107T093000
DTEND;TZID=UTC:20240107T110000
DTSTAMP:20260423T164524
CREATED:20240102T165346Z
LAST-MODIFIED:20240102T165346Z
UID:10001399-1704619800-1704625200@www.rpc.me
SUMMARY:In-Person Services Resume - Missouri City
DESCRIPTION:Join us as we kick off the new year this Sunday at 9:30am & 11am with our new series\, Blueprint.
URL:https://www.rpc.me/event/in-person-services-resume-missouri-city/
LOCATION:RPC Missouri City Campus\, 7057 Knights Ct\, Missouri City\, TX\, 77459
CATEGORIES:Missouri City
ORGANIZER;CN="Missouri City Campus":MAILTO:info@rpc.me
END:VEVENT
END:VCALENDAR