BEGIN:VCALENDAR
VERSION:2.0
PRODID:-//River Pointe Church - ECPv6.15.20//NONSGML v1.0//EN
CALSCALE:GREGORIAN
METHOD:PUBLISH
X-ORIGINAL-URL:https://www.rpc.me
X-WR-CALDESC:Events for River Pointe Church
REFRESH-INTERVAL;VALUE=DURATION:PT1H
X-Robots-Tag:noindex
X-PUBLISHED-TTL:PT1H
BEGIN:VTIMEZONE
TZID:UTC
BEGIN:STANDARD
TZOFFSETFROM:+0000
TZOFFSETTO:+0000
TZNAME:UTC
DTSTART:20250101T000000
END:STANDARD
END:VTIMEZONE
BEGIN:VEVENT
DTSTART;TZID=UTC:20260221T123000
DTEND;TZID=UTC:20260221T133000
DTSTAMP:20260423T232238
CREATED:20260127T160437Z
LAST-MODIFIED:20260127T161204Z
UID:10001949-1771677000-1771680600@www.rpc.me
SUMMARY:Praise and Worship RIDE
DESCRIPTION:Join the ladies of West End Church for a praise and worship-based spin class focused on movement\, music\, and gratitude. Ride at your own pace\, sweat a little\, thank God a lot\, and leave feeling refreshed.
URL:https://www.rpc.me/event/praise-and-worship-ride/
LOCATION:RIDE Indoor Cycling (The Heights)\, 548 W 19th St\, Houston\, TX\, 77008\, United States
CATEGORIES:West End Church
ORGANIZER;CN="West End Church":MAILTO:michaele@westend.me
END:VEVENT
END:VCALENDAR