BEGIN:VCALENDAR
VERSION:2.0
PRODID:-//River Pointe Church - ECPv6.15.20//NONSGML v1.0//EN
CALSCALE:GREGORIAN
METHOD:PUBLISH
X-ORIGINAL-URL:https://www.rpc.me
X-WR-CALDESC:Events for River Pointe Church
REFRESH-INTERVAL;VALUE=DURATION:PT1H
X-Robots-Tag:noindex
X-PUBLISHED-TTL:PT1H
BEGIN:VTIMEZONE
TZID:UTC
BEGIN:STANDARD
TZOFFSETFROM:+0000
TZOFFSETTO:+0000
TZNAME:UTC
DTSTART:20200101T000000
END:STANDARD
END:VTIMEZONE
BEGIN:VEVENT
DTSTART;VALUE=DATE:20210716
DTEND;VALUE=DATE:20210717
DTSTAMP:20260423T200154
CREATED:20210504T153647Z
LAST-MODIFIED:20210504T181424Z
UID:10001190-1626393600-1626479999@www.rpc.me
SUMMARY:High School River Trip
DESCRIPTION:We are inviting all incoming freshman – graduating seniors to join us for a road trip to float the San Marcos River! We will bus our students from the RPC Richmond Campus to the San Marcos Lions Club and back for a day of fun in the sun! We will float\, play games and make memories!
URL:https://www.rpc.me/event/high-school-river-trip/
CATEGORIES:Richmond
ORGANIZER;CN="Students - RPC Youth":MAILTO:students@rpc.me
END:VEVENT
BEGIN:VEVENT
DTSTART;TZID=UTC:20210625T200000
DTEND;TZID=UTC:20210626T000000
DTSTAMP:20260423T200154
CREATED:20210517T162229Z
LAST-MODIFIED:20210616T211442Z
UID:10001191-1624651200-1624665600@www.rpc.me
SUMMARY:Middle School Late Night Event
DESCRIPTION:Come have a wild night with THE TAKE staff and volunteers! We will have a dunk tank\, laser tag\, karaoke\, an inflatable obstacle course and MORE. Open to all incoming 6-8th graders. Kona Ice\, Chick-fil-A and snacks will be available for purchase. \nOther activities include: \n\n\nInflatable Obstacle Course \n\n\nVelcro Wall \n\n\nBungee Run  \n\n\nJousting
URL:https://www.rpc.me/event/middle-school-late-night-event/
LOCATION:RPC Richmond\, 21000 Southwest Freeway\, Richmond\, TX\, 77469\, United States
CATEGORIES:Richmond
ORGANIZER;CN="Students - RPC Youth":MAILTO:students@rpc.me
END:VEVENT
END:VCALENDAR