BEGIN:VCALENDAR
VERSION:2.0
PRODID:-//River Pointe Church - ECPv6.15.20//NONSGML v1.0//EN
CALSCALE:GREGORIAN
METHOD:PUBLISH
X-ORIGINAL-URL:https://www.rpc.me
X-WR-CALDESC:Events for River Pointe Church
REFRESH-INTERVAL;VALUE=DURATION:PT1H
X-Robots-Tag:noindex
X-PUBLISHED-TTL:PT1H
BEGIN:VTIMEZONE
TZID:UTC
BEGIN:STANDARD
TZOFFSETFROM:+0000
TZOFFSETTO:+0000
TZNAME:UTC
DTSTART:20200101T000000
END:STANDARD
END:VTIMEZONE
BEGIN:VEVENT
DTSTART;TZID=UTC:20230623T190000
DTEND;TZID=UTC:20230623T230000
DTSTAMP:20260423T164507
CREATED:20230606T201102Z
LAST-MODIFIED:20230606T201457Z
UID:10001346-1687546800-1687561200@www.rpc.me
SUMMARY:High School Late Night
DESCRIPTION:All 9th-12th graders are invited to join us for our High School Late Night hangout!\nFeaturing a popcorn bar\, free candy\, spike ball\, pickle ball\, video games\, Catan\, chess\, and more fun games! No sign up or registration is needed for this free event!
URL:https://www.rpc.me/event/high-school-late-night/
LOCATION:RPC Richmond Campus | Student Building
CATEGORIES:Richmond
ORGANIZER;CN="Students - RPC Youth":MAILTO:students@rpc.me
END:VEVENT
BEGIN:VEVENT
DTSTART;TZID=UTC:20230621T170000
DTEND;TZID=UTC:20230621T220000
DTSTAMP:20260423T164507
CREATED:20230613T171227Z
LAST-MODIFIED:20230613T171227Z
UID:10001348-1687366800-1687384800@www.rpc.me
SUMMARY:RPC YTH Dynamo Game
DESCRIPTION:Calling all High School students to join us for a summer night on the town that starts with dinner in the city and ends with an exciting experience of cheering on the Houston Dynamo Soccer team. \nStudents will need to bring money for dinner (suggested $20) and can also bring money for snacks and drinks if desired. Water will be provided throughout the night. We will eat dinner @ The shops of Houston near discovery green park and then go to SHELL ENERGY STADIUM to enjoy the Houston Dynamo. Sunscreen\, a hat\, and appropriate summer clothes are advised. \nDrop off – 5pm @ RPC Richmond Campus\nPick up – 10pm @ RPC Richmond Campus
URL:https://www.rpc.me/event/rpc-yth-dynamo-game/
LOCATION:RPC Richmond Campus\, 21000 Southwest Fwy\, Richmond\, TX\, 77469\, United States
CATEGORIES:Richmond
ORGANIZER;CN="Students - RPC Youth":MAILTO:students@rpc.me
END:VEVENT
BEGIN:VEVENT
DTSTART;TZID=UTC:20230609T190000
DTEND;TZID=UTC:20230609T230000
DTSTAMP:20260423T164507
CREATED:20220503T183210Z
LAST-MODIFIED:20230504T195024Z
UID:10001254-1686337200-1686351600@www.rpc.me
SUMMARY:Middle School Late Night
DESCRIPTION:Middle School Late Night is a exciting and fun event\, open to incoming 6th – 8th graders. We will have a variety of activities available for our middle schoolers inlcuding Giant twister\, Karaoke\, Laser Tag\, Video Games\, a 60 foot Obstacle course\, a Velcro wall\, Hamster ball\, 9 square\, and Gaga ball!! Kona Ice\, Chick Fil A\, snacks and drinks will be available for purchase.\nPLUS GIVEAWAYS! Giveaways include 2 season passes to typhoon Texas and Free Tanks Paintball admission for you and a friend. \nWANT TO COME WITH US TO SUMMER CAMP FOR FREE? – invite the most friends to this event and win a free spot to camp.\nTell your friends to make sure they enter YOUR NAME on the “who invited you” field on their sign up. Names must be entered on the registration to be valid. \nThe cost is $20 for online pre registration but will increase to $30 at the door. The cost includes activities\, food is available for purchase only.
URL:https://www.rpc.me/event/middle-school-late-night/
LOCATION:RPC Richmond Campus | Student Building
CATEGORIES:Richmond
ORGANIZER;CN="Students - RPC Youth":MAILTO:students@rpc.me
END:VEVENT
BEGIN:VEVENT
DTSTART;TZID=UTC:20230430T173000
DTEND;TZID=UTC:20230430T193000
DTSTAMP:20260423T164507
CREATED:20230125T203141Z
LAST-MODIFIED:20230126T161055Z
UID:10001315-1682875800-1682883000@www.rpc.me
SUMMARY:RPC Youth Small Group - HS
DESCRIPTION:High school small groups are every other Sunday night from 5:30p to 7:30p in host homes. For more details you can reach out to Jay at jwinn@rpc.me.
URL:https://www.rpc.me/event/rpc-youth-small-group/2023-04-30/
CATEGORIES:Richmond
ORGANIZER;CN="Students - RPC Youth":MAILTO:students@rpc.me
END:VEVENT
BEGIN:VEVENT
DTSTART;TZID=UTC:20230416T173000
DTEND;TZID=UTC:20230416T193000
DTSTAMP:20260423T164507
CREATED:20230125T203141Z
LAST-MODIFIED:20230126T161055Z
UID:10001314-1681666200-1681673400@www.rpc.me
SUMMARY:RPC Youth Small Group - HS
DESCRIPTION:High school small groups are every other Sunday night from 5:30p to 7:30p in host homes. For more details you can reach out to Jay at jwinn@rpc.me.
URL:https://www.rpc.me/event/rpc-youth-small-group/2023-04-16/
CATEGORIES:Richmond
ORGANIZER;CN="Students - RPC Youth":MAILTO:students@rpc.me
END:VEVENT
BEGIN:VEVENT
DTSTART;TZID=UTC:20230402T173000
DTEND;TZID=UTC:20230402T193000
DTSTAMP:20260423T164507
CREATED:20230125T203141Z
LAST-MODIFIED:20230126T161055Z
UID:10001313-1680456600-1680463800@www.rpc.me
SUMMARY:RPC Youth Small Group - HS
DESCRIPTION:High school small groups are every other Sunday night from 5:30p to 7:30p in host homes. For more details you can reach out to Jay at jwinn@rpc.me.
URL:https://www.rpc.me/event/rpc-youth-small-group/2023-04-02/
CATEGORIES:Richmond
ORGANIZER;CN="Students - RPC Youth":MAILTO:students@rpc.me
END:VEVENT
BEGIN:VEVENT
DTSTART;TZID=UTC:20230326T180000
DTEND;TZID=UTC:20230326T193000
DTSTAMP:20260423T164507
CREATED:20230125T203709Z
LAST-MODIFIED:20230126T172019Z
UID:10001318-1679853600-1679859000@www.rpc.me
SUMMARY:RPC Youth Small Group - MS
DESCRIPTION:Middle school small groups will be on the last Sunday night of each month from 6p to 7:30p in the student building\, starting Jan. 29th. For more information on middle school small groups contact anna@rpc.me.
URL:https://www.rpc.me/event/rpc-youth-small-group-2/2023-03-26/
LOCATION:RPC Richmond Campus | Student Building
CATEGORIES:Richmond
ORGANIZER;CN="Students - RPC Youth":MAILTO:students@rpc.me
END:VEVENT
BEGIN:VEVENT
DTSTART;TZID=UTC:20230319T173000
DTEND;TZID=UTC:20230319T193000
DTSTAMP:20260423T164507
CREATED:20230125T203141Z
LAST-MODIFIED:20230126T161055Z
UID:10001312-1679247000-1679254200@www.rpc.me
SUMMARY:RPC Youth Small Group - HS
DESCRIPTION:High school small groups are every other Sunday night from 5:30p to 7:30p in host homes. For more details you can reach out to Jay at jwinn@rpc.me.
URL:https://www.rpc.me/event/rpc-youth-small-group/2023-03-19/
CATEGORIES:Richmond
ORGANIZER;CN="Students - RPC Youth":MAILTO:students@rpc.me
END:VEVENT
BEGIN:VEVENT
DTSTART;TZID=UTC:20230305T173000
DTEND;TZID=UTC:20230305T193000
DTSTAMP:20260423T164507
CREATED:20230125T203141Z
LAST-MODIFIED:20230126T161055Z
UID:10001311-1678037400-1678044600@www.rpc.me
SUMMARY:RPC Youth Small Group - HS
DESCRIPTION:High school small groups are every other Sunday night from 5:30p to 7:30p in host homes. For more details you can reach out to Jay at jwinn@rpc.me.
URL:https://www.rpc.me/event/rpc-youth-small-group/2023-03-05/
CATEGORIES:Richmond
ORGANIZER;CN="Students - RPC Youth":MAILTO:students@rpc.me
END:VEVENT
BEGIN:VEVENT
DTSTART;VALUE=DATE:20230303
DTEND;VALUE=DATE:20230306
DTSTAMP:20260423T164507
CREATED:20211006T201430Z
LAST-MODIFIED:20230228T204657Z
UID:10001091-1677801600-1678060799@www.rpc.me
SUMMARY:Youth Serve Weekend
DESCRIPTION:Serve WKND is an amazing opportunity for students grades 6-12th from all campuses to take part in a local missions opportunity. The Friday night portion of this service opportunity will take place at the Missouri City campus from 7-9pm. On Saturday\, we will check in at the Richmond campus but then divide and conquer across our community to serve at various local organizations. This event ends after a debrief and celebration on Sunday morning. We are excited for our youth to represent the light of Christ in our community this Serve WKND! \nBreakfast and lunch will be provided for students on Saturday. A shirt is included with registration. \n3/3/23 | Serve weekend kick off – at Missouri City campus 7-9pm\n3/4/23 | Serve day check in at the Richmond Campus @ 8:00am dismissal 5pm\n3/5/23 | Attend Sunday service at your home campus!
URL:https://www.rpc.me/event/winter-retreat-2022/
LOCATION:RPC Missouri City Campus\, 7057 Knights Ct\, Missouri City\, TX\, 77459
CATEGORIES:Missouri City,Richmond,West End Church
ORGANIZER;CN="Students - RPC Youth":MAILTO:students@rpc.me
END:VEVENT
BEGIN:VEVENT
DTSTART;TZID=UTC:20230226T180000
DTEND;TZID=UTC:20230226T193000
DTSTAMP:20260423T164507
CREATED:20230125T203709Z
LAST-MODIFIED:20230126T172019Z
UID:10001317-1677434400-1677439800@www.rpc.me
SUMMARY:RPC Youth Small Group - MS
DESCRIPTION:Middle school small groups will be on the last Sunday night of each month from 6p to 7:30p in the student building\, starting Jan. 29th. For more information on middle school small groups contact anna@rpc.me.
URL:https://www.rpc.me/event/rpc-youth-small-group-2/2023-02-26/
LOCATION:RPC Richmond Campus | Student Building
CATEGORIES:Richmond
ORGANIZER;CN="Students - RPC Youth":MAILTO:students@rpc.me
END:VEVENT
BEGIN:VEVENT
DTSTART;TZID=UTC:20230219T173000
DTEND;TZID=UTC:20230219T193000
DTSTAMP:20260423T164507
CREATED:20230125T203141Z
LAST-MODIFIED:20230126T161055Z
UID:10001310-1676827800-1676835000@www.rpc.me
SUMMARY:RPC Youth Small Group - HS
DESCRIPTION:High school small groups are every other Sunday night from 5:30p to 7:30p in host homes. For more details you can reach out to Jay at jwinn@rpc.me.
URL:https://www.rpc.me/event/rpc-youth-small-group/2023-02-19/
CATEGORIES:Richmond
ORGANIZER;CN="Students - RPC Youth":MAILTO:students@rpc.me
END:VEVENT
BEGIN:VEVENT
DTSTART;TZID=UTC:20230205T173000
DTEND;TZID=UTC:20230205T193000
DTSTAMP:20260423T164507
CREATED:20230125T203141Z
LAST-MODIFIED:20230126T161055Z
UID:10001309-1675618200-1675625400@www.rpc.me
SUMMARY:RPC Youth Small Group - HS
DESCRIPTION:High school small groups are every other Sunday night from 5:30p to 7:30p in host homes. For more details you can reach out to Jay at jwinn@rpc.me.
URL:https://www.rpc.me/event/rpc-youth-small-group/2023-02-05/
CATEGORIES:Richmond
ORGANIZER;CN="Students - RPC Youth":MAILTO:students@rpc.me
END:VEVENT
BEGIN:VEVENT
DTSTART;TZID=UTC:20230129T180000
DTEND;TZID=UTC:20230129T193000
DTSTAMP:20260423T164507
CREATED:20230125T203709Z
LAST-MODIFIED:20230126T172019Z
UID:10001316-1675015200-1675020600@www.rpc.me
SUMMARY:RPC Youth Small Group - MS
DESCRIPTION:Middle school small groups will be on the last Sunday night of each month from 6p to 7:30p in the student building\, starting Jan. 29th. For more information on middle school small groups contact anna@rpc.me.
URL:https://www.rpc.me/event/rpc-youth-small-group-2/2023-01-29/
LOCATION:RPC Richmond Campus | Student Building
CATEGORIES:Richmond
ORGANIZER;CN="Students - RPC Youth":MAILTO:students@rpc.me
END:VEVENT
BEGIN:VEVENT
DTSTART;TZID=UTC:20221109T183000
DTEND;TZID=UTC:20221109T193000
DTSTAMP:20260423T164507
CREATED:20220930T150518Z
LAST-MODIFIED:20220930T150518Z
UID:10001283-1668018600-1668022200@www.rpc.me
SUMMARY:RPC Youth Takeover
DESCRIPTION:Join us for a river park take over with the RPC Youth middle school team. Middle schoolers come have Whataburger with your favorite leaders.
URL:https://www.rpc.me/event/rpc-youth-takeover/
LOCATION:Whataburger\, 17480 W Grand Pkwy S\, Sugar Land\, TX\, 77479\, United States
CATEGORIES:Richmond
ORGANIZER;CN="Students - RPC Youth":MAILTO:students@rpc.me
END:VEVENT
BEGIN:VEVENT
DTSTART;TZID=UTC:20221102T183000
DTEND;TZID=UTC:20221102T193000
DTSTAMP:20260423T164507
CREATED:20220930T150559Z
LAST-MODIFIED:20220930T150559Z
UID:10001284-1667413800-1667417400@www.rpc.me
SUMMARY:RPC Youth Takeover
DESCRIPTION:Join us for a river park take over with the RPC Youth middle school team. Middle schoolers come have Chick-fil-a with your favorite leaders.
URL:https://www.rpc.me/event/rpc-youth-takeover-2/
LOCATION:Chick-fil-a\, 20020 Southwest Fwy\, Sugar Land\, TX\, 77479\, United States
CATEGORIES:Richmond
ORGANIZER;CN="Students - RPC Youth":MAILTO:students@rpc.me
END:VEVENT
BEGIN:VEVENT
DTSTART;TZID=UTC:20221012T180000
DTEND;TZID=UTC:20221012T200000
DTSTAMP:20260423T164507
CREATED:20220118T151904Z
LAST-MODIFIED:20221005T215059Z
UID:10001095-1665597600-1665604800@www.rpc.me
SUMMARY:Fall Hype Night @ The Wave
DESCRIPTION:Calling all high school students to come join us Wednesday night at 6p for a night full of fall fun\, exciting competitions\, and free food. We will be eating (Frito Pie and pies for dessert!) and we will top it off with hot apple cider on this Fall themed night! This will be a perfect night for High School students to wear a flannel shirt and take a photo with their friends at our photo booth\, carve pumpkins\, and enjoy smores after service.
URL:https://www.rpc.me/event/hype-night/
LOCATION:RPC Richmond Campus | Student Building
CATEGORIES:Richmond
ORGANIZER;CN="Students - RPC Youth":MAILTO:students@rpc.me
END:VEVENT
BEGIN:VEVENT
DTSTART;TZID=UTC:20220804T173000
DTEND;TZID=UTC:20220804T203000
DTSTAMP:20260423T164507
CREATED:20220720T175733Z
LAST-MODIFIED:20220720T185505Z
UID:10001257-1659634200-1659645000@www.rpc.me
SUMMARY:Middle School Movie Night
DESCRIPTION:Middle school movie night! Bring your middle schooler & their friends to watch a movie with us. Free concessions are provided! Bring your own blanket\, sit back\, relax\, and let the show begin. We will also be giving away a movie gift basket to one lucky raffle winner. \nDoors open at 5:30 & movie starts at 6. Pick up at 8:30.
URL:https://www.rpc.me/event/middle-school-movie-night/
LOCATION:RPC Richmond Campus | Student Building
CATEGORIES:Missouri City,Richmond
ORGANIZER;CN="Students - RPC Youth":MAILTO:students@rpc.me
END:VEVENT
BEGIN:VEVENT
DTSTART;TZID=UTC:20211117T183000
DTEND;TZID=UTC:20211117T200000
DTSTAMP:20260423T164507
CREATED:20210903T183209Z
LAST-MODIFIED:20211111T162336Z
UID:10001219-1637173800-1637179200@www.rpc.me
SUMMARY:TAKEsgiving
DESCRIPTION:  \nJoin us at The TAKE for a special Thanksgiving event\, TAKESgiving. TAKEsgiving is open to students in 6th – 12th grade and will be held of November 17th from 6:30 – 8pm. Dinner and dessert will be provided.
URL:https://www.rpc.me/event/takesgiving-2/
LOCATION:RPC Missouri City\, 7057 Knights Ct\, Missouri City\, TX\, United States
CATEGORIES:Missouri City
ORGANIZER;CN="Students - RPC Youth":MAILTO:students@rpc.me
END:VEVENT
BEGIN:VEVENT
DTSTART;TZID=UTC:20211117T183000
DTEND;TZID=UTC:20211117T200000
DTSTAMP:20260423T164507
CREATED:20210903T182903Z
LAST-MODIFIED:20211007T165152Z
UID:10001218-1637173800-1637179200@www.rpc.me
SUMMARY:TAKEsgiving
DESCRIPTION:Join us at The TAKE for a special Thanksgiving event\, TAKESgiving. TAKEsgiving is open to students in 6th – 12th grade and will be held of November 17th from 6:30 – 8pm. Dinner and dessert will be provided.
URL:https://www.rpc.me/event/takesgiving/
LOCATION:RPC Richmond Campus | Student Building
CATEGORIES:Richmond
ORGANIZER;CN="Students - RPC Youth":MAILTO:students@rpc.me
END:VEVENT
BEGIN:VEVENT
DTSTART;VALUE=DATE:20210716
DTEND;VALUE=DATE:20210717
DTSTAMP:20260423T164507
CREATED:20210504T153647Z
LAST-MODIFIED:20210504T181424Z
UID:10001190-1626393600-1626479999@www.rpc.me
SUMMARY:High School River Trip
DESCRIPTION:We are inviting all incoming freshman – graduating seniors to join us for a road trip to float the San Marcos River! We will bus our students from the RPC Richmond Campus to the San Marcos Lions Club and back for a day of fun in the sun! We will float\, play games and make memories!
URL:https://www.rpc.me/event/high-school-river-trip/
CATEGORIES:Richmond
ORGANIZER;CN="Students - RPC Youth":MAILTO:students@rpc.me
END:VEVENT
BEGIN:VEVENT
DTSTART;TZID=UTC:20210625T200000
DTEND;TZID=UTC:20210626T000000
DTSTAMP:20260423T164507
CREATED:20210517T162229Z
LAST-MODIFIED:20210616T211442Z
UID:10001191-1624651200-1624665600@www.rpc.me
SUMMARY:Middle School Late Night Event
DESCRIPTION:Come have a wild night with THE TAKE staff and volunteers! We will have a dunk tank\, laser tag\, karaoke\, an inflatable obstacle course and MORE. Open to all incoming 6-8th graders. Kona Ice\, Chick-fil-A and snacks will be available for purchase. \nOther activities include: \n\n\nInflatable Obstacle Course \n\n\nVelcro Wall \n\n\nBungee Run  \n\n\nJousting
URL:https://www.rpc.me/event/middle-school-late-night-event/
LOCATION:RPC Richmond\, 21000 Southwest Freeway\, Richmond\, TX\, 77469\, United States
CATEGORIES:Richmond
ORGANIZER;CN="Students - RPC Youth":MAILTO:students@rpc.me
END:VEVENT
END:VCALENDAR