BEGIN:VCALENDAR
VERSION:2.0
PRODID:-//River Pointe Church - ECPv6.15.20//NONSGML v1.0//EN
CALSCALE:GREGORIAN
METHOD:PUBLISH
X-ORIGINAL-URL:https://www.rpc.me
X-WR-CALDESC:Events for River Pointe Church
REFRESH-INTERVAL;VALUE=DURATION:PT1H
X-Robots-Tag:noindex
X-PUBLISHED-TTL:PT1H
BEGIN:VTIMEZONE
TZID:UTC
BEGIN:STANDARD
TZOFFSETFROM:+0000
TZOFFSETTO:+0000
TZNAME:UTC
DTSTART:20220101T000000
END:STANDARD
END:VTIMEZONE
BEGIN:VEVENT
DTSTART;TZID=UTC:20260327T180000
DTEND;TZID=UTC:20260327T200000
DTSTAMP:20260423T131811
CREATED:20260122T181305Z
LAST-MODIFIED:20260316T165221Z
UID:10001962-1774634400-1774641600@www.rpc.me
SUMMARY:Friday Night Hangs
DESCRIPTION:All current 6th-8th graders are welcome to hang out with us in the student building! If your student is looking for a connection with RPC youth that isn’t on Sunday\, then this is for them! RPC youth staff will be hanging out with middle school students from 6-8 pm! Students can play video games\, basketball\, volleyball\, pool\, ping pong\, air hockey\, talk with friends/chill\, or draw and color. We will have our shop open so be sure to send your student with cash or card for soda\, chips\, candy\, or merch! Students are welcome to invite friends that are also in 6th-8th grade! No sign up is required!
URL:https://www.rpc.me/event/friday-night-hangs/2026-03-27/
LOCATION:RPC Richmond Campus | Student Building
CATEGORIES:Richmond
ORGANIZER;CN="Students - RPC Youth":MAILTO:students@rpc.me
END:VEVENT
BEGIN:VEVENT
DTSTART;VALUE=DATE:20260227
DTEND;VALUE=DATE:20260301
DTSTAMP:20260423T131811
CREATED:20250227T205441Z
LAST-MODIFIED:20260212T182634Z
UID:10001939-1772150400-1772323199@www.rpc.me
SUMMARY:United Weekend
DESCRIPTION:United Wknd is a dynamic two-night event for youth in 6th-12th grade to grow in their walk with God\, connect with other students\, and get a small glimpse of what Summer Camp is like! This weekend features Camp-style worship\, engaging teaching\, and unforgettable moments that your teenager won’t want to miss. Students will definitely get to enjoy food and activities throughout the event! But most importantly\, our hope is that our youth will build friendships\, grow in their relationship with God\, and be challenged to love others and make an impact in their schools and communities.\nDates: Friday\, February 27th and Saturday\, February 28th\, 2026\n – Join us Sunday morning for a celebration of the event\nTimes: 6pm -10pm each night (This is NOT an overnight event)\nRegistration: Required\nCost: $30\nLocation: River Pointe Church Richmond Campus
URL:https://www.rpc.me/event/united-weekend/
LOCATION:RPC Richmond Campus\, 21000 Southwest Fwy\, Richmond\, TX\, 77469\, United States
CATEGORIES:Richmond
ORGANIZER;CN="Students - RPC Youth":MAILTO:students@rpc.me
END:VEVENT
BEGIN:VEVENT
DTSTART;TZID=UTC:20260220T180000
DTEND;TZID=UTC:20260220T200000
DTSTAMP:20260423T131811
CREATED:20260122T181305Z
LAST-MODIFIED:20260316T165221Z
UID:10001942-1771610400-1771617600@www.rpc.me
SUMMARY:Friday Night Hangs
DESCRIPTION:All current 6th-8th graders are welcome to hang out with us in the student building! If your student is looking for a connection with RPC youth that isn’t on Sunday\, then this is for them! RPC youth staff will be hanging out with middle school students from 6-8 pm! Students can play video games\, basketball\, volleyball\, pool\, ping pong\, air hockey\, talk with friends/chill\, or draw and color. We will have our shop open so be sure to send your student with cash or card for soda\, chips\, candy\, or merch! Students are welcome to invite friends that are also in 6th-8th grade! No sign up is required!
URL:https://www.rpc.me/event/friday-night-hangs/2026-02-20/
LOCATION:RPC Richmond Campus | Student Building
CATEGORIES:Richmond
ORGANIZER;CN="Students - RPC Youth":MAILTO:students@rpc.me
END:VEVENT
BEGIN:VEVENT
DTSTART;TZID=UTC:20251024T190000
DTEND;TZID=UTC:20251024T213000
DTSTAMP:20260423T131811
CREATED:20241002T170831Z
LAST-MODIFIED:20250910T193543Z
UID:10001656-1761332400-1761341400@www.rpc.me
SUMMARY:Flannels and Fire
DESCRIPTION:Hey 6th\, 7th\, & 8th graders! Join us for a night of fall festivities including hayrides\, carnival games\, giveaways and LOTS OF PUMPKINS\, free fall food and drinks\, s’mores\, and a pie eating contest. This event is for all current 6th-8th graders\, so bring a friend! All food and activities are included in registration costs.\nRegister online only! No cash accepted for walk up registrations.
URL:https://www.rpc.me/event/flannels-and-fire-middle-school/
LOCATION:RPC Richmond Campus | Student Building
CATEGORIES:Richmond
ORGANIZER;CN="Students - RPC Youth":MAILTO:students@rpc.me
END:VEVENT
BEGIN:VEVENT
DTSTART;TZID=UTC:20250801T190000
DTEND;TZID=UTC:20250801T213000
DTSTAMP:20260423T131811
CREATED:20240604T191208Z
LAST-MODIFIED:20250707T154306Z
UID:10001440-1754074800-1754083800@www.rpc.me
SUMMARY:Middle School Movie Night
DESCRIPTION:This event is for all incoming 6th-8th graders! It will be a night filled with free popcorn\, sodas\, fun\, movies\, and games! Bring your own pillow and blanket to be cozy in our cinema!
URL:https://www.rpc.me/event/middle-school-movie-night-2/
LOCATION:RPC Richmond Campus | Student Building
CATEGORIES:Richmond
ORGANIZER;CN="Students - RPC Youth":MAILTO:students@rpc.me
END:VEVENT
BEGIN:VEVENT
DTSTART;TZID=UTC:20250801T170000
DTEND;TZID=UTC:20250801T200000
DTSTAMP:20260423T131811
CREATED:20250528T185957Z
LAST-MODIFIED:20250528T190050Z
UID:10001864-1754067600-1754078400@www.rpc.me
SUMMARY:High School Space Cowboys Game
DESCRIPTION:Calling all High School students! Join us for a fun summer night at Constellation Field on Friday\, August 1st for the Space Cowboys Vs. the Rainiers game! Meet us at the RPC Richmond Campus – Student Building at 5pm and we will depart at 5:15 sharp. The cost is $20 which covers transportation and entry. Students should bring money for dinner\, concessions\, or merch.
URL:https://www.rpc.me/event/high-school-space-cowboys-game/
LOCATION:RPC Richmond Campus | Student Building
CATEGORIES:Richmond
ORGANIZER;CN="Students - RPC Youth":MAILTO:students@rpc.me
END:VEVENT
BEGIN:VEVENT
DTSTART;TZID=UTC:20250731T183000
DTEND;TZID=UTC:20250731T200000
DTSTAMP:20260423T131811
CREATED:20250711T191232Z
LAST-MODIFIED:20250711T191232Z
UID:10001889-1753986600-1753992000@www.rpc.me
SUMMARY:Slip N Slide Kick Ball
DESCRIPTION:All 6th-12th graders get ready for the most epic mashup of summer fun and friendly competition! Join us for Slip ‘N Slide Kickball\, free pizza and a short message from Jay. Bring your friends\, wear something you don’t mind getting soaked in! Pizza\, music\, and tons of fun included. You don’t want to miss this!
URL:https://www.rpc.me/event/slip-n-slide-kick-ball/
LOCATION:RPC Richmond Campus | Student Building
CATEGORIES:Richmond
ORGANIZER;CN="Students - RPC Youth":MAILTO:students@rpc.me
END:VEVENT
BEGIN:VEVENT
DTSTART;TZID=UTC:20250627T190000
DTEND;TZID=UTC:20250627T230000
DTSTAMP:20260423T131811
CREATED:20240501T154341Z
LAST-MODIFIED:20250507T201800Z
UID:10001435-1751050800-1751065200@www.rpc.me
SUMMARY:Middle School Late Night
DESCRIPTION:Is your middle schooler looking for a night filled with fun\, friends\, and snacks? Well\, look no further! One of our all-time favorite summer events is right around the corner! We are hosting our annual “Middle School Late Night” on June 27th\, 2025\, at our Richmond Campus. It will be from 7-11pm.\nMiddle School Late Night is for ALL 6th\, 7th\, and 8th graders (for the 2025-2026 school year)! We will have tons of activities that include karaoke\, gaga ball\, video games\, inflatable obstacle courses/slides/velcro wall\, mechanical bull\, and lots of giveaways! We will be selling snacks such as pizza\, Chick-Fil-A\, candy\, chips\, soda\, s’mores\, & Kona Ice that range from $1-$5. Come hungry! Cash and cards accepted.\nCan’t wait to see you there!
URL:https://www.rpc.me/event/middle-school-late-night-2/
LOCATION:RPC Richmond Campus | Student Building
CATEGORIES:Richmond
ORGANIZER;CN="Students - RPC Youth":MAILTO:students@rpc.me
END:VEVENT
BEGIN:VEVENT
DTSTART;TZID=UTC:20250516T183000
DTEND;TZID=UTC:20250516T203000
DTSTAMP:20260423T131811
CREATED:20250501T162546Z
LAST-MODIFIED:20250501T163046Z
UID:10001861-1747420200-1747427400@www.rpc.me
SUMMARY:Campus Clash - Middle School Event
DESCRIPTION:Campus Clash is a high-energy middle school event where 6th & 7th graders go head-to-head with the 8th graders in a full of competition\, fun\, and faith. Centered around the theme of “running the race\,” students will be encouraged to stay strong in their journey with Jesus and finish well. It’s also a perfect chance to invite friends who’ve never been to church\, offering them a welcoming space to hear about faith in Jesus.
URL:https://www.rpc.me/event/middle-school-campus-clash/
LOCATION:RPC Richmond Campus | Student Building
CATEGORIES:Richmond
ORGANIZER;CN="Students - RPC Youth":MAILTO:students@rpc.me
END:VEVENT
BEGIN:VEVENT
DTSTART;TZID=UTC:20250425T183000
DTEND;TZID=UTC:20250425T203000
DTSTAMP:20260423T131811
CREATED:20250409T145138Z
LAST-MODIFIED:20250409T145139Z
UID:10001857-1745605800-1745613000@www.rpc.me
SUMMARY:Middle School Mission Impossible
DESCRIPTION:Mission Impossible is an event for all current 6th-8th graders and their friends. This night focuses on fun\, friends\, games\, prizes\, and will highlight what it looks like to be in a community of like-minded believers. Students will play a game called “last one standing\,” that involves a mission of running\, planning\, and executing challenges. We will play several rounds\, but snacks and drinks will be provided. Invite your friends\, wear your best spy gear\, and get ready for an impossible mission!
URL:https://www.rpc.me/event/middle-school-mission-impossible/
LOCATION:RPC Richmond Campus | Student Building
CATEGORIES:Richmond
ORGANIZER;CN="Students - RPC Youth":MAILTO:students@rpc.me
END:VEVENT
BEGIN:VEVENT
DTSTART;TZID=UTC:20240719T190000
DTEND;TZID=UTC:20240719T213000
DTSTAMP:20260423T131811
CREATED:20240606T142945Z
LAST-MODIFIED:20240703T142444Z
UID:10001439-1721415600-1721424600@www.rpc.me
SUMMARY:Middle School Guys Night
DESCRIPTION:Guys night is for all 6th-8th grade guys! It will be a night full of capture the flag\, snacks\, games\, and fun! This event is all about getting to make new friends\, memories\, and relationships that will last. We’ll see you there!
URL:https://www.rpc.me/event/middle-school-guys-night/
LOCATION:RPC Richmond Campus | Student Building
CATEGORIES:Richmond
ORGANIZER;CN="Students - RPC Youth":MAILTO:students@rpc.me
END:VEVENT
BEGIN:VEVENT
DTSTART;TZID=UTC:20240712T190000
DTEND;TZID=UTC:20240712T213000
DTSTAMP:20260423T131811
CREATED:20240529T161727Z
LAST-MODIFIED:20240529T163152Z
UID:10001438-1720810800-1720819800@www.rpc.me
SUMMARY:Middle School Girls Night
DESCRIPTION:Girls’ night is for all 6th-8th grade ladies! It will be a night full of pajamas\, snacks\, princess diaries\, games\, and fun! This event is all about getting to make new friends\, memories\, and relationships that will last. We’ll see you there!
URL:https://www.rpc.me/event/middle-school-girls-night/
LOCATION:RPC Richmond Campus | Student Building
CATEGORIES:Richmond
ORGANIZER;CN="Students - RPC Youth":MAILTO:students@rpc.me
END:VEVENT
BEGIN:VEVENT
DTSTART;TZID=UTC:20240712T160000
DTEND;TZID=UTC:20240712T220000
DTSTAMP:20260423T131811
CREATED:20240606T162221Z
LAST-MODIFIED:20240606T181129Z
UID:10001452-1720800000-1720821600@www.rpc.me
SUMMARY:High School Astros Game
DESCRIPTION:Calling all High School students to join us for a memorable summer night on the town that starts with dinner in the city and then moves to the electric atmosphere of Minute Made stadium to support our ‘Stros and enjoy some post-game fireworks! \nDeparting from RPC Richmond at 4pm\n$50 per student includes ticket and transportation\, students will need money for concessions.
URL:https://www.rpc.me/event/high-school-astros-game/
LOCATION:RPC Richmond\, 21000 Southwest Freeway\, Richmond\, TX\, 77469\, United States
CATEGORIES:Richmond
ORGANIZER;CN="Students - RPC Youth":MAILTO:students@rpc.me
END:VEVENT
BEGIN:VEVENT
DTSTART;TZID=UTC:20240707T163000
DTEND;TZID=UTC:20240707T163000
DTSTAMP:20260423T131811
CREATED:20240606T151816Z
LAST-MODIFIED:20240606T152036Z
UID:10001451-1720369800-1720369800@www.rpc.me
SUMMARY:High School Dynamo Game
DESCRIPTION:Calling all High School students! Join us for an exciting experience of cheering on the Houston Dynamo Soccer team! \n$25 per student includes transportation and ticket\, students will need to bring money for concessions.\nDeparting from the RPC Richmond Campus @ 4:30pm
URL:https://www.rpc.me/event/dynamo-game-high-school/
LOCATION:RPC Richmond\, 21000 Southwest Freeway\, Richmond\, TX\, 77469\, United States
CATEGORIES:Richmond
ORGANIZER;CN="Students - RPC Youth":MAILTO:students@rpc.me
END:VEVENT
BEGIN:VEVENT
DTSTART;TZID=UTC:20240414T180000
DTEND;TZID=UTC:20240414T200000
DTSTAMP:20260423T131811
CREATED:20240320T184848Z
LAST-MODIFIED:20240320T184848Z
UID:10001422-1713117600-1713124800@www.rpc.me
SUMMARY:High School Dodgeball Tournament
DESCRIPTION:CALLING ALL HIGH SCHOOL Students!! \nGather your most competitive friends and sign up for our dodgeball tournament on Sunday\, April 14th\, from 6-8pm. Students are welcome to play or observe! We would love to have them join us for some FREE food and fun. This night will be designed for students to be able to easily invite their friends to join them at church. We will have separate tournaments for boys and girls. The winning teams will win a $250 gift card! Teams will consist of up to 5 students and your student should register their team online. There is no cost to attend or participate.
URL:https://www.rpc.me/event/high-school-dodgeball-tournament/
LOCATION:RPC Richmond\, 21000 Southwest Freeway\, Richmond\, TX\, 77469\, United States
CATEGORIES:Richmond
ORGANIZER;CN="Students - RPC Youth":MAILTO:students@rpc.me
END:VEVENT
BEGIN:VEVENT
DTSTART;TZID=UTC:20231217T170000
DTEND;TZID=UTC:20231217T190000
DTSTAMP:20260423T131811
CREATED:20231201T153230Z
LAST-MODIFIED:20231201T153230Z
UID:10001383-1702832400-1702839600@www.rpc.me
SUMMARY:Very Merry Hype Night
DESCRIPTION:Calling all High School students! Join us Sunday\, December 17th at 5pm ( in the student building) for a night full of festive fun and food. We will be singing Christmas Karaoke at the top of our lungs and dancing the night away with Silent Disco. This will be a perfect night for High School students to wear their most festive fit and take a photo with their friends at our photo booth. They could win an awesome prize if they are the “Best Dressed”! No registration required!
URL:https://www.rpc.me/event/very-merry-hype-night/
LOCATION:RPC Richmond Campus | Student Building
CATEGORIES:Richmond
ORGANIZER;CN="Students - RPC Youth":MAILTO:students@rpc.me
END:VEVENT
BEGIN:VEVENT
DTSTART;TZID=UTC:20231116T190000
DTEND;TZID=UTC:20231116T200000
DTSTAMP:20260423T131811
CREATED:20231031T195059Z
LAST-MODIFIED:20231031T195059Z
UID:10001373-1700161200-1700164800@www.rpc.me
SUMMARY:RPC Youth Friendsgiving
DESCRIPTION:6th – 12th grade students\, please join us for food\, fun and friends at our annual Friendsgiving celebration! Friendsgiving will take place during our 7pm service on Thursday 11/16. Dinner\, drinks and dessert will be provided fun will be had by all
URL:https://www.rpc.me/event/rpc-youth-friendsgiving/
LOCATION:RPC Richmond Campus | Student Building
CATEGORIES:Richmond
ORGANIZER;CN="Students - RPC Youth":MAILTO:students@rpc.me
END:VEVENT
BEGIN:VEVENT
DTSTART;TZID=UTC:20230729T190000
DTEND;TZID=UTC:20230729T220000
DTSTAMP:20260423T131811
CREATED:20230601T201249Z
LAST-MODIFIED:20230728T135831Z
UID:10001345-1690657200-1690668000@www.rpc.me
SUMMARY:Paintball with RPC Youth
DESCRIPTION:Join us for paintball on July 29! This is for Middle School students (6th – 8th Grade) only.\nParents will drop off and pick up students from TANKS Paintball Park. It is recommended that you bring a towel or trash bag with you at pick up – paintball can get messy!\nPlease arrive at promptly at 7pm for check in. 30 minutes are allotted for the check in process\, if your student is late\, it may result in a reduction of playing time.\nConcessions will be open\, so please send money with your student if they would like to purchase snacks or extra paintballs.
URL:https://www.rpc.me/event/paintball-with-rpc-youth/
LOCATION:Tank Paintball Park\, 22011 Southwest Freeway\, Richmond\, TX\, 77469
CATEGORIES:Richmond
ORGANIZER;CN="Students - RPC Youth":MAILTO:students@rpc.me
END:VEVENT
BEGIN:VEVENT
DTSTART;TZID=UTC:20230726T070000
DTEND;TZID=UTC:20230726T110000
DTSTAMP:20260423T131811
CREATED:20230607T173535Z
LAST-MODIFIED:20230607T175513Z
UID:10001347-1690354800-1690369200@www.rpc.me
SUMMARY:RPC Youth Six Flags Trip
DESCRIPTION:Calling all high school students! Join us for a day of thrills at Six Flags Fiesta Texas. We are taking day trip by bus to Fiesta Texas in San Antonio for a day of adventure\, fun and community!
URL:https://www.rpc.me/event/rpc-youth-six-flags-trip/
LOCATION:RPC Richmond Campus\, 21000 Southwest Fwy\, Richmond\, TX\, 77469\, United States
CATEGORIES:Richmond
ORGANIZER;CN="Students - RPC Youth":MAILTO:students@rpc.me
END:VEVENT
BEGIN:VEVENT
DTSTART;TZID=UTC:20230707T150000
DTEND;TZID=UTC:20230707T233000
DTSTAMP:20260423T131811
CREATED:20230622T194418Z
LAST-MODIFIED:20230622T194418Z
UID:10001352-1688742000-1688772600@www.rpc.me
SUMMARY:Astros Game with RPC YTH
DESCRIPTION:Calling all High School students to join us for a memorable summer night on the town that starts with dinner in the city and then moves to the electric atmosphere of Minute Made stadium to support our ‘Stros and enjoy some post-game fireworks! Students need to bring money for dinner (suggested $30) and can also bring money for snacks and drinks if desired. Water will be provided throughout the night. We will eat dinner near the stadium. Sunscreen\, a hat\, and appropriate summer clothes are advised. \nDrop off – 3pm @ RPC Richmond Campus\nPick up -Midnight @ RPC Richmond Campus  (will text updates to time)
URL:https://www.rpc.me/event/astros-game-with-rpc-yth/
CATEGORIES:Richmond
ORGANIZER;CN="Students - RPC Youth":MAILTO:students@rpc.me
END:VEVENT
BEGIN:VEVENT
DTSTART;TZID=UTC:20230623T190000
DTEND;TZID=UTC:20230623T230000
DTSTAMP:20260423T131811
CREATED:20230606T201102Z
LAST-MODIFIED:20230606T201457Z
UID:10001346-1687546800-1687561200@www.rpc.me
SUMMARY:High School Late Night
DESCRIPTION:All 9th-12th graders are invited to join us for our High School Late Night hangout!\nFeaturing a popcorn bar\, free candy\, spike ball\, pickle ball\, video games\, Catan\, chess\, and more fun games! No sign up or registration is needed for this free event!
URL:https://www.rpc.me/event/high-school-late-night/
LOCATION:RPC Richmond Campus | Student Building
CATEGORIES:Richmond
ORGANIZER;CN="Students - RPC Youth":MAILTO:students@rpc.me
END:VEVENT
BEGIN:VEVENT
DTSTART;TZID=UTC:20230621T170000
DTEND;TZID=UTC:20230621T220000
DTSTAMP:20260423T131811
CREATED:20230613T171227Z
LAST-MODIFIED:20230613T171227Z
UID:10001348-1687366800-1687384800@www.rpc.me
SUMMARY:RPC YTH Dynamo Game
DESCRIPTION:Calling all High School students to join us for a summer night on the town that starts with dinner in the city and ends with an exciting experience of cheering on the Houston Dynamo Soccer team. \nStudents will need to bring money for dinner (suggested $20) and can also bring money for snacks and drinks if desired. Water will be provided throughout the night. We will eat dinner @ The shops of Houston near discovery green park and then go to SHELL ENERGY STADIUM to enjoy the Houston Dynamo. Sunscreen\, a hat\, and appropriate summer clothes are advised. \nDrop off – 5pm @ RPC Richmond Campus\nPick up – 10pm @ RPC Richmond Campus
URL:https://www.rpc.me/event/rpc-yth-dynamo-game/
LOCATION:RPC Richmond Campus\, 21000 Southwest Fwy\, Richmond\, TX\, 77469\, United States
CATEGORIES:Richmond
ORGANIZER;CN="Students - RPC Youth":MAILTO:students@rpc.me
END:VEVENT
BEGIN:VEVENT
DTSTART;TZID=UTC:20230609T190000
DTEND;TZID=UTC:20230609T230000
DTSTAMP:20260423T131811
CREATED:20220503T183210Z
LAST-MODIFIED:20230504T195024Z
UID:10001254-1686337200-1686351600@www.rpc.me
SUMMARY:Middle School Late Night
DESCRIPTION:Middle School Late Night is a exciting and fun event\, open to incoming 6th – 8th graders. We will have a variety of activities available for our middle schoolers inlcuding Giant twister\, Karaoke\, Laser Tag\, Video Games\, a 60 foot Obstacle course\, a Velcro wall\, Hamster ball\, 9 square\, and Gaga ball!! Kona Ice\, Chick Fil A\, snacks and drinks will be available for purchase.\nPLUS GIVEAWAYS! Giveaways include 2 season passes to typhoon Texas and Free Tanks Paintball admission for you and a friend. \nWANT TO COME WITH US TO SUMMER CAMP FOR FREE? – invite the most friends to this event and win a free spot to camp.\nTell your friends to make sure they enter YOUR NAME on the “who invited you” field on their sign up. Names must be entered on the registration to be valid. \nThe cost is $20 for online pre registration but will increase to $30 at the door. The cost includes activities\, food is available for purchase only.
URL:https://www.rpc.me/event/middle-school-late-night/
LOCATION:RPC Richmond Campus | Student Building
CATEGORIES:Richmond
ORGANIZER;CN="Students - RPC Youth":MAILTO:students@rpc.me
END:VEVENT
BEGIN:VEVENT
DTSTART;TZID=UTC:20230430T173000
DTEND;TZID=UTC:20230430T193000
DTSTAMP:20260423T131811
CREATED:20230125T203141Z
LAST-MODIFIED:20230126T161055Z
UID:10001315-1682875800-1682883000@www.rpc.me
SUMMARY:RPC Youth Small Group - HS
DESCRIPTION:High school small groups are every other Sunday night from 5:30p to 7:30p in host homes. For more details you can reach out to Jay at jwinn@rpc.me.
URL:https://www.rpc.me/event/rpc-youth-small-group/2023-04-30/
CATEGORIES:Richmond
ORGANIZER;CN="Students - RPC Youth":MAILTO:students@rpc.me
END:VEVENT
BEGIN:VEVENT
DTSTART;TZID=UTC:20230416T173000
DTEND;TZID=UTC:20230416T193000
DTSTAMP:20260423T131811
CREATED:20230125T203141Z
LAST-MODIFIED:20230126T161055Z
UID:10001314-1681666200-1681673400@www.rpc.me
SUMMARY:RPC Youth Small Group - HS
DESCRIPTION:High school small groups are every other Sunday night from 5:30p to 7:30p in host homes. For more details you can reach out to Jay at jwinn@rpc.me.
URL:https://www.rpc.me/event/rpc-youth-small-group/2023-04-16/
CATEGORIES:Richmond
ORGANIZER;CN="Students - RPC Youth":MAILTO:students@rpc.me
END:VEVENT
BEGIN:VEVENT
DTSTART;TZID=UTC:20230402T173000
DTEND;TZID=UTC:20230402T193000
DTSTAMP:20260423T131811
CREATED:20230125T203141Z
LAST-MODIFIED:20230126T161055Z
UID:10001313-1680456600-1680463800@www.rpc.me
SUMMARY:RPC Youth Small Group - HS
DESCRIPTION:High school small groups are every other Sunday night from 5:30p to 7:30p in host homes. For more details you can reach out to Jay at jwinn@rpc.me.
URL:https://www.rpc.me/event/rpc-youth-small-group/2023-04-02/
CATEGORIES:Richmond
ORGANIZER;CN="Students - RPC Youth":MAILTO:students@rpc.me
END:VEVENT
BEGIN:VEVENT
DTSTART;TZID=UTC:20230326T180000
DTEND;TZID=UTC:20230326T193000
DTSTAMP:20260423T131811
CREATED:20230125T203709Z
LAST-MODIFIED:20230126T172019Z
UID:10001318-1679853600-1679859000@www.rpc.me
SUMMARY:RPC Youth Small Group - MS
DESCRIPTION:Middle school small groups will be on the last Sunday night of each month from 6p to 7:30p in the student building\, starting Jan. 29th. For more information on middle school small groups contact anna@rpc.me.
URL:https://www.rpc.me/event/rpc-youth-small-group-2/2023-03-26/
LOCATION:RPC Richmond Campus | Student Building
CATEGORIES:Richmond
ORGANIZER;CN="Students - RPC Youth":MAILTO:students@rpc.me
END:VEVENT
BEGIN:VEVENT
DTSTART;TZID=UTC:20230319T173000
DTEND;TZID=UTC:20230319T193000
DTSTAMP:20260423T131811
CREATED:20230125T203141Z
LAST-MODIFIED:20230126T161055Z
UID:10001312-1679247000-1679254200@www.rpc.me
SUMMARY:RPC Youth Small Group - HS
DESCRIPTION:High school small groups are every other Sunday night from 5:30p to 7:30p in host homes. For more details you can reach out to Jay at jwinn@rpc.me.
URL:https://www.rpc.me/event/rpc-youth-small-group/2023-03-19/
CATEGORIES:Richmond
ORGANIZER;CN="Students - RPC Youth":MAILTO:students@rpc.me
END:VEVENT
BEGIN:VEVENT
DTSTART;TZID=UTC:20230305T173000
DTEND;TZID=UTC:20230305T193000
DTSTAMP:20260423T131811
CREATED:20230125T203141Z
LAST-MODIFIED:20230126T161055Z
UID:10001311-1678037400-1678044600@www.rpc.me
SUMMARY:RPC Youth Small Group - HS
DESCRIPTION:High school small groups are every other Sunday night from 5:30p to 7:30p in host homes. For more details you can reach out to Jay at jwinn@rpc.me.
URL:https://www.rpc.me/event/rpc-youth-small-group/2023-03-05/
CATEGORIES:Richmond
ORGANIZER;CN="Students - RPC Youth":MAILTO:students@rpc.me
END:VEVENT
BEGIN:VEVENT
DTSTART;VALUE=DATE:20230303
DTEND;VALUE=DATE:20230306
DTSTAMP:20260423T131811
CREATED:20211006T201430Z
LAST-MODIFIED:20230228T204657Z
UID:10001091-1677801600-1678060799@www.rpc.me
SUMMARY:Youth Serve Weekend
DESCRIPTION:Serve WKND is an amazing opportunity for students grades 6-12th from all campuses to take part in a local missions opportunity. The Friday night portion of this service opportunity will take place at the Missouri City campus from 7-9pm. On Saturday\, we will check in at the Richmond campus but then divide and conquer across our community to serve at various local organizations. This event ends after a debrief and celebration on Sunday morning. We are excited for our youth to represent the light of Christ in our community this Serve WKND! \nBreakfast and lunch will be provided for students on Saturday. A shirt is included with registration. \n3/3/23 | Serve weekend kick off – at Missouri City campus 7-9pm\n3/4/23 | Serve day check in at the Richmond Campus @ 8:00am dismissal 5pm\n3/5/23 | Attend Sunday service at your home campus!
URL:https://www.rpc.me/event/winter-retreat-2022/
LOCATION:RPC Missouri City Campus\, 7057 Knights Ct\, Missouri City\, TX\, 77459
CATEGORIES:Missouri City,Richmond,West End Church
ORGANIZER;CN="Students - RPC Youth":MAILTO:students@rpc.me
END:VEVENT
END:VCALENDAR